BEGIN:VCALENDAR
VERSION:2.0
PRODID:-//The Wheel - ECPv6.15.20//NONSGML v1.0//EN
CALSCALE:GREGORIAN
METHOD:PUBLISH
X-ORIGINAL-URL:https://wearethewheel.com
X-WR-CALDESC:Events for The Wheel
REFRESH-INTERVAL;VALUE=DURATION:PT1H
X-Robots-Tag:noindex
X-PUBLISHED-TTL:PT1H
BEGIN:VTIMEZONE
TZID:America/New_York
BEGIN:DAYLIGHT
TZOFFSETFROM:-0500
TZOFFSETTO:-0400
TZNAME:EDT
DTSTART:20300310T070000
END:DAYLIGHT
BEGIN:STANDARD
TZOFFSETFROM:-0400
TZOFFSETTO:-0500
TZNAME:EST
DTSTART:20301103T060000
END:STANDARD
BEGIN:DAYLIGHT
TZOFFSETFROM:-0500
TZOFFSETTO:-0400
TZNAME:EDT
DTSTART:20310309T070000
END:DAYLIGHT
BEGIN:STANDARD
TZOFFSETFROM:-0400
TZOFFSETTO:-0500
TZNAME:EST
DTSTART:20311102T060000
END:STANDARD
BEGIN:DAYLIGHT
TZOFFSETFROM:-0500
TZOFFSETTO:-0400
TZNAME:EDT
DTSTART:20320314T070000
END:DAYLIGHT
BEGIN:STANDARD
TZOFFSETFROM:-0400
TZOFFSETTO:-0500
TZNAME:EST
DTSTART:20321107T060000
END:STANDARD
END:VTIMEZONE
BEGIN:VEVENT
DTSTART;TZID=America/New_York:20310107T190000
DTEND;TZID=America/New_York:20310107T203000
DTSTAMP:20260419T213215
CREATED:20260316T005013Z
LAST-MODIFIED:20260316T005013Z
UID:10000811-1925578800-1925584200@wearethewheel.com
SUMMARY:Spiritual Seekers
DESCRIPTION:A weekly gathering for open spiritual conversation and connection. \nThis is a welcoming space for people exploring spirituality from any path or perspective. Together we share experiences\, ask meaningful questions\, and reflect on the deeper aspects of life and consciousness. \nEach gathering offers space for thoughtful dialogue\, listening\, and community support. \nWhether you are new to spiritual exploration or have been walking the path for years\, you are welcome here.
URL:https://wearethewheel.com/event/spiritual-seekers/2031-01-07/
CATEGORIES:Spiritual Seekers
ATTACH;FMTTYPE=image/png:https://wearethewheel.com/wp-content/uploads/2026/03/spiritual-seekers.png
ORGANIZER;CN="The Wheel":MAILTO:hello@wearethewheel.com
LOCATION:https://us02web.zoom.us/j/79829469575?pwd=WVF0VHhkZldibkRVVURBTGZVU0hHUT09&utm_source=chatgpt.com
END:VEVENT
BEGIN:VEVENT
DTSTART;TZID=America/New_York:20310108T190000
DTEND;TZID=America/New_York:20310108T203000
DTSTAMP:20260419T213215
CREATED:20260316T041631Z
LAST-MODIFIED:20260316T041631Z
UID:10001072-1925665200-1925670600@wearethewheel.com
SUMMARY:A Course In Miracles: Study Group
DESCRIPTION:A weekly gathering for students of A Course in Miracles. \nEach Wednesday we come together to read\, reflect\, and explore the teachings of ACIM in a supportive and open environment. Whether you are new to the course or have studied it for years\, you are welcome to join the conversation. \nOur focus is understanding the material and bringing its principles into everyday life.
URL:https://wearethewheel.com/event/a-course-in-miracles-study-group/2031-01-08/
CATEGORIES:ACIM Study Group
ATTACH;FMTTYPE=image/png:https://wearethewheel.com/wp-content/uploads/2026/03/acim-study-group.png
ORGANIZER;CN="The Wheel":MAILTO:hello@wearethewheel.com
LOCATION:https://us02web.zoom.us/j/85453293195
END:VEVENT
BEGIN:VEVENT
DTSTART;TZID=America/New_York:20310114T190000
DTEND;TZID=America/New_York:20310114T203000
DTSTAMP:20260419T213215
CREATED:20260316T005013Z
LAST-MODIFIED:20260316T005013Z
UID:10000812-1926183600-1926189000@wearethewheel.com
SUMMARY:Spiritual Seekers
DESCRIPTION:A weekly gathering for open spiritual conversation and connection. \nThis is a welcoming space for people exploring spirituality from any path or perspective. Together we share experiences\, ask meaningful questions\, and reflect on the deeper aspects of life and consciousness. \nEach gathering offers space for thoughtful dialogue\, listening\, and community support. \nWhether you are new to spiritual exploration or have been walking the path for years\, you are welcome here.
URL:https://wearethewheel.com/event/spiritual-seekers/2031-01-14/
CATEGORIES:Spiritual Seekers
ATTACH;FMTTYPE=image/png:https://wearethewheel.com/wp-content/uploads/2026/03/spiritual-seekers.png
ORGANIZER;CN="The Wheel":MAILTO:hello@wearethewheel.com
LOCATION:https://us02web.zoom.us/j/79829469575?pwd=WVF0VHhkZldibkRVVURBTGZVU0hHUT09&utm_source=chatgpt.com
END:VEVENT
BEGIN:VEVENT
DTSTART;TZID=America/New_York:20310115T190000
DTEND;TZID=America/New_York:20310115T203000
DTSTAMP:20260419T213215
CREATED:20260316T041631Z
LAST-MODIFIED:20260316T041631Z
UID:10001073-1926270000-1926275400@wearethewheel.com
SUMMARY:A Course In Miracles: Study Group
DESCRIPTION:A weekly gathering for students of A Course in Miracles. \nEach Wednesday we come together to read\, reflect\, and explore the teachings of ACIM in a supportive and open environment. Whether you are new to the course or have studied it for years\, you are welcome to join the conversation. \nOur focus is understanding the material and bringing its principles into everyday life.
URL:https://wearethewheel.com/event/a-course-in-miracles-study-group/2031-01-15/
CATEGORIES:ACIM Study Group
ATTACH;FMTTYPE=image/png:https://wearethewheel.com/wp-content/uploads/2026/03/acim-study-group.png
ORGANIZER;CN="The Wheel":MAILTO:hello@wearethewheel.com
LOCATION:https://us02web.zoom.us/j/85453293195
END:VEVENT
BEGIN:VEVENT
DTSTART;TZID=America/New_York:20310121T190000
DTEND;TZID=America/New_York:20310121T203000
DTSTAMP:20260419T213215
CREATED:20260316T005013Z
LAST-MODIFIED:20260316T005013Z
UID:10000813-1926788400-1926793800@wearethewheel.com
SUMMARY:Spiritual Seekers
DESCRIPTION:A weekly gathering for open spiritual conversation and connection. \nThis is a welcoming space for people exploring spirituality from any path or perspective. Together we share experiences\, ask meaningful questions\, and reflect on the deeper aspects of life and consciousness. \nEach gathering offers space for thoughtful dialogue\, listening\, and community support. \nWhether you are new to spiritual exploration or have been walking the path for years\, you are welcome here.
URL:https://wearethewheel.com/event/spiritual-seekers/2031-01-21/
CATEGORIES:Spiritual Seekers
ATTACH;FMTTYPE=image/png:https://wearethewheel.com/wp-content/uploads/2026/03/spiritual-seekers.png
ORGANIZER;CN="The Wheel":MAILTO:hello@wearethewheel.com
LOCATION:https://us02web.zoom.us/j/79829469575?pwd=WVF0VHhkZldibkRVVURBTGZVU0hHUT09&utm_source=chatgpt.com
END:VEVENT
BEGIN:VEVENT
DTSTART;TZID=America/New_York:20310122T190000
DTEND;TZID=America/New_York:20310122T203000
DTSTAMP:20260419T213215
CREATED:20260316T041631Z
LAST-MODIFIED:20260316T041631Z
UID:10001074-1926874800-1926880200@wearethewheel.com
SUMMARY:A Course In Miracles: Study Group
DESCRIPTION:A weekly gathering for students of A Course in Miracles. \nEach Wednesday we come together to read\, reflect\, and explore the teachings of ACIM in a supportive and open environment. Whether you are new to the course or have studied it for years\, you are welcome to join the conversation. \nOur focus is understanding the material and bringing its principles into everyday life.
URL:https://wearethewheel.com/event/a-course-in-miracles-study-group/2031-01-22/
CATEGORIES:ACIM Study Group
ATTACH;FMTTYPE=image/png:https://wearethewheel.com/wp-content/uploads/2026/03/acim-study-group.png
ORGANIZER;CN="The Wheel":MAILTO:hello@wearethewheel.com
LOCATION:https://us02web.zoom.us/j/85453293195
END:VEVENT
BEGIN:VEVENT
DTSTART;TZID=America/New_York:20310128T190000
DTEND;TZID=America/New_York:20310128T203000
DTSTAMP:20260419T213215
CREATED:20260316T005013Z
LAST-MODIFIED:20260316T005013Z
UID:10000814-1927393200-1927398600@wearethewheel.com
SUMMARY:Spiritual Seekers
DESCRIPTION:A weekly gathering for open spiritual conversation and connection. \nThis is a welcoming space for people exploring spirituality from any path or perspective. Together we share experiences\, ask meaningful questions\, and reflect on the deeper aspects of life and consciousness. \nEach gathering offers space for thoughtful dialogue\, listening\, and community support. \nWhether you are new to spiritual exploration or have been walking the path for years\, you are welcome here.
URL:https://wearethewheel.com/event/spiritual-seekers/2031-01-28/
CATEGORIES:Spiritual Seekers
ATTACH;FMTTYPE=image/png:https://wearethewheel.com/wp-content/uploads/2026/03/spiritual-seekers.png
ORGANIZER;CN="The Wheel":MAILTO:hello@wearethewheel.com
LOCATION:https://us02web.zoom.us/j/79829469575?pwd=WVF0VHhkZldibkRVVURBTGZVU0hHUT09&utm_source=chatgpt.com
END:VEVENT
BEGIN:VEVENT
DTSTART;TZID=America/New_York:20310129T190000
DTEND;TZID=America/New_York:20310129T203000
DTSTAMP:20260419T213215
CREATED:20260316T041631Z
LAST-MODIFIED:20260316T041631Z
UID:10001075-1927479600-1927485000@wearethewheel.com
SUMMARY:A Course In Miracles: Study Group
DESCRIPTION:A weekly gathering for students of A Course in Miracles. \nEach Wednesday we come together to read\, reflect\, and explore the teachings of ACIM in a supportive and open environment. Whether you are new to the course or have studied it for years\, you are welcome to join the conversation. \nOur focus is understanding the material and bringing its principles into everyday life.
URL:https://wearethewheel.com/event/a-course-in-miracles-study-group/2031-01-29/
CATEGORIES:ACIM Study Group
ATTACH;FMTTYPE=image/png:https://wearethewheel.com/wp-content/uploads/2026/03/acim-study-group.png
ORGANIZER;CN="The Wheel":MAILTO:hello@wearethewheel.com
LOCATION:https://us02web.zoom.us/j/85453293195
END:VEVENT
BEGIN:VEVENT
DTSTART;TZID=America/New_York:20310204T190000
DTEND;TZID=America/New_York:20310204T203000
DTSTAMP:20260419T213215
CREATED:20260316T005013Z
LAST-MODIFIED:20260316T005013Z
UID:10000815-1927998000-1928003400@wearethewheel.com
SUMMARY:Spiritual Seekers
DESCRIPTION:A weekly gathering for open spiritual conversation and connection. \nThis is a welcoming space for people exploring spirituality from any path or perspective. Together we share experiences\, ask meaningful questions\, and reflect on the deeper aspects of life and consciousness. \nEach gathering offers space for thoughtful dialogue\, listening\, and community support. \nWhether you are new to spiritual exploration or have been walking the path for years\, you are welcome here.
URL:https://wearethewheel.com/event/spiritual-seekers/2031-02-04/
CATEGORIES:Spiritual Seekers
ATTACH;FMTTYPE=image/png:https://wearethewheel.com/wp-content/uploads/2026/03/spiritual-seekers.png
ORGANIZER;CN="The Wheel":MAILTO:hello@wearethewheel.com
LOCATION:https://us02web.zoom.us/j/79829469575?pwd=WVF0VHhkZldibkRVVURBTGZVU0hHUT09&utm_source=chatgpt.com
END:VEVENT
BEGIN:VEVENT
DTSTART;TZID=America/New_York:20310205T190000
DTEND;TZID=America/New_York:20310205T203000
DTSTAMP:20260419T213215
CREATED:20260316T041631Z
LAST-MODIFIED:20260316T041631Z
UID:10001076-1928084400-1928089800@wearethewheel.com
SUMMARY:A Course In Miracles: Study Group
DESCRIPTION:A weekly gathering for students of A Course in Miracles. \nEach Wednesday we come together to read\, reflect\, and explore the teachings of ACIM in a supportive and open environment. Whether you are new to the course or have studied it for years\, you are welcome to join the conversation. \nOur focus is understanding the material and bringing its principles into everyday life.
URL:https://wearethewheel.com/event/a-course-in-miracles-study-group/2031-02-05/
CATEGORIES:ACIM Study Group
ATTACH;FMTTYPE=image/png:https://wearethewheel.com/wp-content/uploads/2026/03/acim-study-group.png
ORGANIZER;CN="The Wheel":MAILTO:hello@wearethewheel.com
LOCATION:https://us02web.zoom.us/j/85453293195
END:VEVENT
BEGIN:VEVENT
DTSTART;TZID=America/New_York:20310211T190000
DTEND;TZID=America/New_York:20310211T203000
DTSTAMP:20260419T213215
CREATED:20260316T005013Z
LAST-MODIFIED:20260316T005013Z
UID:10000816-1928602800-1928608200@wearethewheel.com
SUMMARY:Spiritual Seekers
DESCRIPTION:A weekly gathering for open spiritual conversation and connection. \nThis is a welcoming space for people exploring spirituality from any path or perspective. Together we share experiences\, ask meaningful questions\, and reflect on the deeper aspects of life and consciousness. \nEach gathering offers space for thoughtful dialogue\, listening\, and community support. \nWhether you are new to spiritual exploration or have been walking the path for years\, you are welcome here.
URL:https://wearethewheel.com/event/spiritual-seekers/2031-02-11/
CATEGORIES:Spiritual Seekers
ATTACH;FMTTYPE=image/png:https://wearethewheel.com/wp-content/uploads/2026/03/spiritual-seekers.png
ORGANIZER;CN="The Wheel":MAILTO:hello@wearethewheel.com
LOCATION:https://us02web.zoom.us/j/79829469575?pwd=WVF0VHhkZldibkRVVURBTGZVU0hHUT09&utm_source=chatgpt.com
END:VEVENT
BEGIN:VEVENT
DTSTART;TZID=America/New_York:20310212T190000
DTEND;TZID=America/New_York:20310212T203000
DTSTAMP:20260419T213215
CREATED:20260316T041631Z
LAST-MODIFIED:20260316T041631Z
UID:10001077-1928689200-1928694600@wearethewheel.com
SUMMARY:A Course In Miracles: Study Group
DESCRIPTION:A weekly gathering for students of A Course in Miracles. \nEach Wednesday we come together to read\, reflect\, and explore the teachings of ACIM in a supportive and open environment. Whether you are new to the course or have studied it for years\, you are welcome to join the conversation. \nOur focus is understanding the material and bringing its principles into everyday life.
URL:https://wearethewheel.com/event/a-course-in-miracles-study-group/2031-02-12/
CATEGORIES:ACIM Study Group
ATTACH;FMTTYPE=image/png:https://wearethewheel.com/wp-content/uploads/2026/03/acim-study-group.png
ORGANIZER;CN="The Wheel":MAILTO:hello@wearethewheel.com
LOCATION:https://us02web.zoom.us/j/85453293195
END:VEVENT
BEGIN:VEVENT
DTSTART;TZID=America/New_York:20310218T190000
DTEND;TZID=America/New_York:20310218T203000
DTSTAMP:20260419T213215
CREATED:20260316T005013Z
LAST-MODIFIED:20260316T005013Z
UID:10000817-1929207600-1929213000@wearethewheel.com
SUMMARY:Spiritual Seekers
DESCRIPTION:A weekly gathering for open spiritual conversation and connection. \nThis is a welcoming space for people exploring spirituality from any path or perspective. Together we share experiences\, ask meaningful questions\, and reflect on the deeper aspects of life and consciousness. \nEach gathering offers space for thoughtful dialogue\, listening\, and community support. \nWhether you are new to spiritual exploration or have been walking the path for years\, you are welcome here.
URL:https://wearethewheel.com/event/spiritual-seekers/2031-02-18/
CATEGORIES:Spiritual Seekers
ATTACH;FMTTYPE=image/png:https://wearethewheel.com/wp-content/uploads/2026/03/spiritual-seekers.png
ORGANIZER;CN="The Wheel":MAILTO:hello@wearethewheel.com
LOCATION:https://us02web.zoom.us/j/79829469575?pwd=WVF0VHhkZldibkRVVURBTGZVU0hHUT09&utm_source=chatgpt.com
END:VEVENT
BEGIN:VEVENT
DTSTART;TZID=America/New_York:20310219T190000
DTEND;TZID=America/New_York:20310219T203000
DTSTAMP:20260419T213215
CREATED:20260316T041631Z
LAST-MODIFIED:20260316T041631Z
UID:10001078-1929294000-1929299400@wearethewheel.com
SUMMARY:A Course In Miracles: Study Group
DESCRIPTION:A weekly gathering for students of A Course in Miracles. \nEach Wednesday we come together to read\, reflect\, and explore the teachings of ACIM in a supportive and open environment. Whether you are new to the course or have studied it for years\, you are welcome to join the conversation. \nOur focus is understanding the material and bringing its principles into everyday life.
URL:https://wearethewheel.com/event/a-course-in-miracles-study-group/2031-02-19/
CATEGORIES:ACIM Study Group
ATTACH;FMTTYPE=image/png:https://wearethewheel.com/wp-content/uploads/2026/03/acim-study-group.png
ORGANIZER;CN="The Wheel":MAILTO:hello@wearethewheel.com
LOCATION:https://us02web.zoom.us/j/85453293195
END:VEVENT
BEGIN:VEVENT
DTSTART;TZID=America/New_York:20310225T190000
DTEND;TZID=America/New_York:20310225T203000
DTSTAMP:20260419T213215
CREATED:20260316T005013Z
LAST-MODIFIED:20260316T005013Z
UID:10000818-1929812400-1929817800@wearethewheel.com
SUMMARY:Spiritual Seekers
DESCRIPTION:A weekly gathering for open spiritual conversation and connection. \nThis is a welcoming space for people exploring spirituality from any path or perspective. Together we share experiences\, ask meaningful questions\, and reflect on the deeper aspects of life and consciousness. \nEach gathering offers space for thoughtful dialogue\, listening\, and community support. \nWhether you are new to spiritual exploration or have been walking the path for years\, you are welcome here.
URL:https://wearethewheel.com/event/spiritual-seekers/2031-02-25/
CATEGORIES:Spiritual Seekers
ATTACH;FMTTYPE=image/png:https://wearethewheel.com/wp-content/uploads/2026/03/spiritual-seekers.png
ORGANIZER;CN="The Wheel":MAILTO:hello@wearethewheel.com
LOCATION:https://us02web.zoom.us/j/79829469575?pwd=WVF0VHhkZldibkRVVURBTGZVU0hHUT09&utm_source=chatgpt.com
END:VEVENT
BEGIN:VEVENT
DTSTART;TZID=America/New_York:20310226T190000
DTEND;TZID=America/New_York:20310226T203000
DTSTAMP:20260419T213215
CREATED:20260316T041631Z
LAST-MODIFIED:20260316T041631Z
UID:10001079-1929898800-1929904200@wearethewheel.com
SUMMARY:A Course In Miracles: Study Group
DESCRIPTION:A weekly gathering for students of A Course in Miracles. \nEach Wednesday we come together to read\, reflect\, and explore the teachings of ACIM in a supportive and open environment. Whether you are new to the course or have studied it for years\, you are welcome to join the conversation. \nOur focus is understanding the material and bringing its principles into everyday life.
URL:https://wearethewheel.com/event/a-course-in-miracles-study-group/2031-02-26/
CATEGORIES:ACIM Study Group
ATTACH;FMTTYPE=image/png:https://wearethewheel.com/wp-content/uploads/2026/03/acim-study-group.png
ORGANIZER;CN="The Wheel":MAILTO:hello@wearethewheel.com
LOCATION:https://us02web.zoom.us/j/85453293195
END:VEVENT
BEGIN:VEVENT
DTSTART;TZID=America/New_York:20310304T190000
DTEND;TZID=America/New_York:20310304T203000
DTSTAMP:20260419T213215
CREATED:20260316T005013Z
LAST-MODIFIED:20260316T005013Z
UID:10000819-1930417200-1930422600@wearethewheel.com
SUMMARY:Spiritual Seekers
DESCRIPTION:A weekly gathering for open spiritual conversation and connection. \nThis is a welcoming space for people exploring spirituality from any path or perspective. Together we share experiences\, ask meaningful questions\, and reflect on the deeper aspects of life and consciousness. \nEach gathering offers space for thoughtful dialogue\, listening\, and community support. \nWhether you are new to spiritual exploration or have been walking the path for years\, you are welcome here.
URL:https://wearethewheel.com/event/spiritual-seekers/2031-03-04/
CATEGORIES:Spiritual Seekers
ATTACH;FMTTYPE=image/png:https://wearethewheel.com/wp-content/uploads/2026/03/spiritual-seekers.png
ORGANIZER;CN="The Wheel":MAILTO:hello@wearethewheel.com
LOCATION:https://us02web.zoom.us/j/79829469575?pwd=WVF0VHhkZldibkRVVURBTGZVU0hHUT09&utm_source=chatgpt.com
END:VEVENT
BEGIN:VEVENT
DTSTART;TZID=America/New_York:20310305T190000
DTEND;TZID=America/New_York:20310305T203000
DTSTAMP:20260419T213215
CREATED:20260316T041631Z
LAST-MODIFIED:20260316T041631Z
UID:10001080-1930503600-1930509000@wearethewheel.com
SUMMARY:A Course In Miracles: Study Group
DESCRIPTION:A weekly gathering for students of A Course in Miracles. \nEach Wednesday we come together to read\, reflect\, and explore the teachings of ACIM in a supportive and open environment. Whether you are new to the course or have studied it for years\, you are welcome to join the conversation. \nOur focus is understanding the material and bringing its principles into everyday life.
URL:https://wearethewheel.com/event/a-course-in-miracles-study-group/2031-03-05/
CATEGORIES:ACIM Study Group
ATTACH;FMTTYPE=image/png:https://wearethewheel.com/wp-content/uploads/2026/03/acim-study-group.png
ORGANIZER;CN="The Wheel":MAILTO:hello@wearethewheel.com
LOCATION:https://us02web.zoom.us/j/85453293195
END:VEVENT
BEGIN:VEVENT
DTSTART;TZID=America/New_York:20310311T190000
DTEND;TZID=America/New_York:20310311T203000
DTSTAMP:20260419T213215
CREATED:20260316T005013Z
LAST-MODIFIED:20260316T005013Z
UID:10001604-1931022000-1931027400@wearethewheel.com
SUMMARY:Spiritual Seekers
DESCRIPTION:A weekly gathering for open spiritual conversation and connection. \nThis is a welcoming space for people exploring spirituality from any path or perspective. Together we share experiences\, ask meaningful questions\, and reflect on the deeper aspects of life and consciousness. \nEach gathering offers space for thoughtful dialogue\, listening\, and community support. \nWhether you are new to spiritual exploration or have been walking the path for years\, you are welcome here.
URL:https://wearethewheel.com/event/spiritual-seekers/2031-03-11/
CATEGORIES:Spiritual Seekers
ATTACH;FMTTYPE=image/png:https://wearethewheel.com/wp-content/uploads/2026/03/spiritual-seekers.png
ORGANIZER;CN="The Wheel":MAILTO:hello@wearethewheel.com
LOCATION:https://us02web.zoom.us/j/79829469575?pwd=WVF0VHhkZldibkRVVURBTGZVU0hHUT09&utm_source=chatgpt.com
END:VEVENT
BEGIN:VEVENT
DTSTART;TZID=America/New_York:20310312T190000
DTEND;TZID=America/New_York:20310312T203000
DTSTAMP:20260419T213215
CREATED:20260316T041631Z
LAST-MODIFIED:20260316T041631Z
UID:10001081-1931108400-1931113800@wearethewheel.com
SUMMARY:A Course In Miracles: Study Group
DESCRIPTION:A weekly gathering for students of A Course in Miracles. \nEach Wednesday we come together to read\, reflect\, and explore the teachings of ACIM in a supportive and open environment. Whether you are new to the course or have studied it for years\, you are welcome to join the conversation. \nOur focus is understanding the material and bringing its principles into everyday life.
URL:https://wearethewheel.com/event/a-course-in-miracles-study-group/2031-03-12/
CATEGORIES:ACIM Study Group
ATTACH;FMTTYPE=image/png:https://wearethewheel.com/wp-content/uploads/2026/03/acim-study-group.png
ORGANIZER;CN="The Wheel":MAILTO:hello@wearethewheel.com
LOCATION:https://us02web.zoom.us/j/85453293195
END:VEVENT
END:VCALENDAR