BEGIN:VCALENDAR
VERSION:2.0
PRODID:-//The Wheel - ECPv6.15.20//NONSGML v1.0//EN
CALSCALE:GREGORIAN
METHOD:PUBLISH
X-WR-CALNAME:The Wheel
X-ORIGINAL-URL:https://wearethewheel.com
X-WR-CALDESC:Events for The Wheel
REFRESH-INTERVAL;VALUE=DURATION:PT1H
X-Robots-Tag:noindex
X-PUBLISHED-TTL:PT1H
BEGIN:VTIMEZONE
TZID:America/New_York
BEGIN:DAYLIGHT
TZOFFSETFROM:-0500
TZOFFSETTO:-0400
TZNAME:EDT
DTSTART:20250309T070000
END:DAYLIGHT
BEGIN:STANDARD
TZOFFSETFROM:-0400
TZOFFSETTO:-0500
TZNAME:EST
DTSTART:20251102T060000
END:STANDARD
BEGIN:DAYLIGHT
TZOFFSETFROM:-0500
TZOFFSETTO:-0400
TZNAME:EDT
DTSTART:20260308T070000
END:DAYLIGHT
BEGIN:STANDARD
TZOFFSETFROM:-0400
TZOFFSETTO:-0500
TZNAME:EST
DTSTART:20261101T060000
END:STANDARD
BEGIN:DAYLIGHT
TZOFFSETFROM:-0500
TZOFFSETTO:-0400
TZNAME:EDT
DTSTART:20270314T070000
END:DAYLIGHT
BEGIN:STANDARD
TZOFFSETFROM:-0400
TZOFFSETTO:-0500
TZNAME:EST
DTSTART:20271107T060000
END:STANDARD
END:VTIMEZONE
BEGIN:VEVENT
DTSTART;TZID=America/New_York:20260412T150000
DTEND;TZID=America/New_York:20260412T161500
DTSTAMP:20260419T120216
CREATED:20260303T194904Z
LAST-MODIFIED:20260405T173530Z
UID:10000302-1776006000-1776010500@wearethewheel.com
SUMMARY:Spiritual Book Club
DESCRIPTION:A weekly gathering for thoughtful readers and soulful conversation. \nEach Sunday\, we come together to explore a selected spiritual text and reflect on how its wisdom applies to real life. This is not a lecture. It is a shared space for insight\, honest questions\, and lived experience. \nWhether you have read every page or are simply curious\, you are welcome here.
URL:https://wearethewheel.com/event/spiritual-book-club/2026-04-12/
CATEGORIES:Spiritual Book Club
ATTACH;FMTTYPE=image/png:https://wearethewheel.com/wp-content/uploads/2026/03/spiritual-book-club.png
ORGANIZER;CN="The Wheel":MAILTO:hello@wearethewheel.com
LOCATION:https://us02web.zoom.us/j/85326555985
END:VEVENT
BEGIN:VEVENT
DTSTART;TZID=America/New_York:20260329T150000
DTEND;TZID=America/New_York:20260329T161500
DTSTAMP:20260419T120216
CREATED:20260303T194904Z
LAST-MODIFIED:20260405T173530Z
UID:10000300-1774796400-1774800900@wearethewheel.com
SUMMARY:Spiritual Book Club
DESCRIPTION:A weekly gathering for thoughtful readers and soulful conversation. \nEach Sunday\, we come together to explore a selected spiritual text and reflect on how its wisdom applies to real life. This is not a lecture. It is a shared space for insight\, honest questions\, and lived experience. \nWhether you have read every page or are simply curious\, you are welcome here.
URL:https://wearethewheel.com/event/spiritual-book-club/2026-03-29/
CATEGORIES:Spiritual Book Club
ATTACH;FMTTYPE=image/png:https://wearethewheel.com/wp-content/uploads/2026/03/spiritual-book-club.png
ORGANIZER;CN="The Wheel":MAILTO:hello@wearethewheel.com
LOCATION:https://us02web.zoom.us/j/85326555985
END:VEVENT
BEGIN:VEVENT
DTSTART;TZID=America/New_York:20260322T150000
DTEND;TZID=America/New_York:20260322T161500
DTSTAMP:20260419T120216
CREATED:20260303T194904Z
LAST-MODIFIED:20260405T173530Z
UID:10000299-1774191600-1774196100@wearethewheel.com
SUMMARY:Spiritual Book Club
DESCRIPTION:A weekly gathering for thoughtful readers and soulful conversation. \nEach Sunday\, we come together to explore a selected spiritual text and reflect on how its wisdom applies to real life. This is not a lecture. It is a shared space for insight\, honest questions\, and lived experience. \nWhether you have read every page or are simply curious\, you are welcome here.
URL:https://wearethewheel.com/event/spiritual-book-club/2026-03-22/
CATEGORIES:Spiritual Book Club
ATTACH;FMTTYPE=image/png:https://wearethewheel.com/wp-content/uploads/2026/03/spiritual-book-club.png
ORGANIZER;CN="The Wheel":MAILTO:hello@wearethewheel.com
LOCATION:https://us02web.zoom.us/j/85326555985
END:VEVENT
BEGIN:VEVENT
DTSTART;TZID=America/New_York:20260315T150000
DTEND;TZID=America/New_York:20260315T161500
DTSTAMP:20260419T120216
CREATED:20260303T194904Z
LAST-MODIFIED:20260405T173530Z
UID:10000298-1773586800-1773591300@wearethewheel.com
SUMMARY:Spiritual Book Club
DESCRIPTION:A weekly gathering for thoughtful readers and soulful conversation. \nEach Sunday\, we come together to explore a selected spiritual text and reflect on how its wisdom applies to real life. This is not a lecture. It is a shared space for insight\, honest questions\, and lived experience. \nWhether you have read every page or are simply curious\, you are welcome here.
URL:https://wearethewheel.com/event/spiritual-book-club/2026-03-15/
CATEGORIES:Spiritual Book Club
ATTACH;FMTTYPE=image/png:https://wearethewheel.com/wp-content/uploads/2026/03/spiritual-book-club.png
ORGANIZER;CN="The Wheel":MAILTO:hello@wearethewheel.com
LOCATION:https://us02web.zoom.us/j/85326555985
END:VEVENT
BEGIN:VEVENT
DTSTART;TZID=America/New_York:20260308T150000
DTEND;TZID=America/New_York:20260308T161500
DTSTAMP:20260419T120216
CREATED:20260303T194904Z
LAST-MODIFIED:20260405T173530Z
UID:10000297-1772982000-1772986500@wearethewheel.com
SUMMARY:Spiritual Book Club
DESCRIPTION:A weekly gathering for thoughtful readers and soulful conversation. \nEach Sunday\, we come together to explore a selected spiritual text and reflect on how its wisdom applies to real life. This is not a lecture. It is a shared space for insight\, honest questions\, and lived experience. \nWhether you have read every page or are simply curious\, you are welcome here.
URL:https://wearethewheel.com/event/spiritual-book-club/2026-03-08/
CATEGORIES:Spiritual Book Club
ATTACH;FMTTYPE=image/png:https://wearethewheel.com/wp-content/uploads/2026/03/spiritual-book-club.png
ORGANIZER;CN="The Wheel":MAILTO:hello@wearethewheel.com
LOCATION:https://us02web.zoom.us/j/85326555985
END:VEVENT
END:VCALENDAR