BEGIN:VCALENDAR
VERSION:2.0
PRODID:-//The Wheel - ECPv6.15.20//NONSGML v1.0//EN
CALSCALE:GREGORIAN
METHOD:PUBLISH
X-WR-CALNAME:The Wheel
X-ORIGINAL-URL:https://wearethewheel.com
X-WR-CALDESC:Events for The Wheel
REFRESH-INTERVAL;VALUE=DURATION:PT1H
X-Robots-Tag:noindex
X-PUBLISHED-TTL:PT1H
BEGIN:VTIMEZONE
TZID:America/New_York
BEGIN:DAYLIGHT
TZOFFSETFROM:-0500
TZOFFSETTO:-0400
TZNAME:EDT
DTSTART:20260308T070000
END:DAYLIGHT
BEGIN:STANDARD
TZOFFSETFROM:-0400
TZOFFSETTO:-0500
TZNAME:EST
DTSTART:20261101T060000
END:STANDARD
BEGIN:DAYLIGHT
TZOFFSETFROM:-0500
TZOFFSETTO:-0400
TZNAME:EDT
DTSTART:20270314T070000
END:DAYLIGHT
BEGIN:STANDARD
TZOFFSETFROM:-0400
TZOFFSETTO:-0500
TZNAME:EST
DTSTART:20271107T060000
END:STANDARD
BEGIN:DAYLIGHT
TZOFFSETFROM:-0500
TZOFFSETTO:-0400
TZNAME:EDT
DTSTART:20280312T070000
END:DAYLIGHT
BEGIN:STANDARD
TZOFFSETFROM:-0400
TZOFFSETTO:-0500
TZNAME:EST
DTSTART:20281105T060000
END:STANDARD
BEGIN:DAYLIGHT
TZOFFSETFROM:-0500
TZOFFSETTO:-0400
TZNAME:EDT
DTSTART:20290311T070000
END:DAYLIGHT
BEGIN:STANDARD
TZOFFSETFROM:-0400
TZOFFSETTO:-0500
TZNAME:EST
DTSTART:20291104T060000
END:STANDARD
END:VTIMEZONE
BEGIN:VEVENT
DTSTART;TZID=America/New_York:20271205T190000
DTEND;TZID=America/New_York:20271205T201500
DTSTAMP:20260420T162656
CREATED:20260413T184627Z
LAST-MODIFIED:20260413T184629Z
UID:10001692-1828033200-1828037700@wearethewheel.com
SUMMARY:Spiritual Book Club
DESCRIPTION:A weekly gathering for thoughtful readers and soulful conversation. \nEach Sunday\, we come together to explore a selected spiritual text and reflect on how its wisdom applies to real life. This is not a lecture. It is a shared space for insight\, honest questions\, and lived experience. \nWhether you have read every page or are simply curious\, you are welcome here.
URL:https://wearethewheel.com/event/spiritual-book-club-2/2027-12-05/
CATEGORIES:Spiritual Book Club
ATTACH;FMTTYPE=image/png:https://wearethewheel.com/wp-content/uploads/2026/03/spiritual-book-club.png
ORGANIZER;CN="The Wheel":MAILTO:hello@wearethewheel.com
LOCATION:
END:VEVENT
BEGIN:VEVENT
DTSTART;TZID=America/New_York:20271212T190000
DTEND;TZID=America/New_York:20271212T201500
DTSTAMP:20260420T162656
CREATED:20260413T184627Z
LAST-MODIFIED:20260413T184629Z
UID:10001693-1828638000-1828642500@wearethewheel.com
SUMMARY:Spiritual Book Club
DESCRIPTION:A weekly gathering for thoughtful readers and soulful conversation. \nEach Sunday\, we come together to explore a selected spiritual text and reflect on how its wisdom applies to real life. This is not a lecture. It is a shared space for insight\, honest questions\, and lived experience. \nWhether you have read every page or are simply curious\, you are welcome here.
URL:https://wearethewheel.com/event/spiritual-book-club-2/2027-12-12/
CATEGORIES:Spiritual Book Club
ATTACH;FMTTYPE=image/png:https://wearethewheel.com/wp-content/uploads/2026/03/spiritual-book-club.png
ORGANIZER;CN="The Wheel":MAILTO:hello@wearethewheel.com
LOCATION:
END:VEVENT
BEGIN:VEVENT
DTSTART;TZID=America/New_York:20271219T190000
DTEND;TZID=America/New_York:20271219T201500
DTSTAMP:20260420T162656
CREATED:20260413T184627Z
LAST-MODIFIED:20260413T184629Z
UID:10001694-1829242800-1829247300@wearethewheel.com
SUMMARY:Spiritual Book Club
DESCRIPTION:A weekly gathering for thoughtful readers and soulful conversation. \nEach Sunday\, we come together to explore a selected spiritual text and reflect on how its wisdom applies to real life. This is not a lecture. It is a shared space for insight\, honest questions\, and lived experience. \nWhether you have read every page or are simply curious\, you are welcome here.
URL:https://wearethewheel.com/event/spiritual-book-club-2/2027-12-19/
CATEGORIES:Spiritual Book Club
ATTACH;FMTTYPE=image/png:https://wearethewheel.com/wp-content/uploads/2026/03/spiritual-book-club.png
ORGANIZER;CN="The Wheel":MAILTO:hello@wearethewheel.com
LOCATION:
END:VEVENT
BEGIN:VEVENT
DTSTART;TZID=America/New_York:20271226T190000
DTEND;TZID=America/New_York:20271226T201500
DTSTAMP:20260420T162656
CREATED:20260413T184627Z
LAST-MODIFIED:20260413T184629Z
UID:10001695-1829847600-1829852100@wearethewheel.com
SUMMARY:Spiritual Book Club
DESCRIPTION:A weekly gathering for thoughtful readers and soulful conversation. \nEach Sunday\, we come together to explore a selected spiritual text and reflect on how its wisdom applies to real life. This is not a lecture. It is a shared space for insight\, honest questions\, and lived experience. \nWhether you have read every page or are simply curious\, you are welcome here.
URL:https://wearethewheel.com/event/spiritual-book-club-2/2027-12-26/
CATEGORIES:Spiritual Book Club
ATTACH;FMTTYPE=image/png:https://wearethewheel.com/wp-content/uploads/2026/03/spiritual-book-club.png
ORGANIZER;CN="The Wheel":MAILTO:hello@wearethewheel.com
LOCATION:
END:VEVENT
BEGIN:VEVENT
DTSTART;TZID=America/New_York:20280102T190000
DTEND;TZID=America/New_York:20280102T201500
DTSTAMP:20260420T162656
CREATED:20260413T184627Z
LAST-MODIFIED:20260413T184629Z
UID:10001696-1830452400-1830456900@wearethewheel.com
SUMMARY:Spiritual Book Club
DESCRIPTION:A weekly gathering for thoughtful readers and soulful conversation. \nEach Sunday\, we come together to explore a selected spiritual text and reflect on how its wisdom applies to real life. This is not a lecture. It is a shared space for insight\, honest questions\, and lived experience. \nWhether you have read every page or are simply curious\, you are welcome here.
URL:https://wearethewheel.com/event/spiritual-book-club-2/2028-01-02/
CATEGORIES:Spiritual Book Club
ATTACH;FMTTYPE=image/png:https://wearethewheel.com/wp-content/uploads/2026/03/spiritual-book-club.png
ORGANIZER;CN="The Wheel":MAILTO:hello@wearethewheel.com
LOCATION:
END:VEVENT
BEGIN:VEVENT
DTSTART;TZID=America/New_York:20280109T190000
DTEND;TZID=America/New_York:20280109T201500
DTSTAMP:20260420T162656
CREATED:20260413T184627Z
LAST-MODIFIED:20260413T184629Z
UID:10001697-1831057200-1831061700@wearethewheel.com
SUMMARY:Spiritual Book Club
DESCRIPTION:A weekly gathering for thoughtful readers and soulful conversation. \nEach Sunday\, we come together to explore a selected spiritual text and reflect on how its wisdom applies to real life. This is not a lecture. It is a shared space for insight\, honest questions\, and lived experience. \nWhether you have read every page or are simply curious\, you are welcome here.
URL:https://wearethewheel.com/event/spiritual-book-club-2/2028-01-09/
CATEGORIES:Spiritual Book Club
ATTACH;FMTTYPE=image/png:https://wearethewheel.com/wp-content/uploads/2026/03/spiritual-book-club.png
ORGANIZER;CN="The Wheel":MAILTO:hello@wearethewheel.com
LOCATION:
END:VEVENT
BEGIN:VEVENT
DTSTART;TZID=America/New_York:20280116T190000
DTEND;TZID=America/New_York:20280116T201500
DTSTAMP:20260420T162656
CREATED:20260413T184627Z
LAST-MODIFIED:20260413T184629Z
UID:10001698-1831662000-1831666500@wearethewheel.com
SUMMARY:Spiritual Book Club
DESCRIPTION:A weekly gathering for thoughtful readers and soulful conversation. \nEach Sunday\, we come together to explore a selected spiritual text and reflect on how its wisdom applies to real life. This is not a lecture. It is a shared space for insight\, honest questions\, and lived experience. \nWhether you have read every page or are simply curious\, you are welcome here.
URL:https://wearethewheel.com/event/spiritual-book-club-2/2028-01-16/
CATEGORIES:Spiritual Book Club
ATTACH;FMTTYPE=image/png:https://wearethewheel.com/wp-content/uploads/2026/03/spiritual-book-club.png
ORGANIZER;CN="The Wheel":MAILTO:hello@wearethewheel.com
LOCATION:
END:VEVENT
BEGIN:VEVENT
DTSTART;TZID=America/New_York:20280123T190000
DTEND;TZID=America/New_York:20280123T201500
DTSTAMP:20260420T162656
CREATED:20260413T184627Z
LAST-MODIFIED:20260413T184629Z
UID:10001699-1832266800-1832271300@wearethewheel.com
SUMMARY:Spiritual Book Club
DESCRIPTION:A weekly gathering for thoughtful readers and soulful conversation. \nEach Sunday\, we come together to explore a selected spiritual text and reflect on how its wisdom applies to real life. This is not a lecture. It is a shared space for insight\, honest questions\, and lived experience. \nWhether you have read every page or are simply curious\, you are welcome here.
URL:https://wearethewheel.com/event/spiritual-book-club-2/2028-01-23/
CATEGORIES:Spiritual Book Club
ATTACH;FMTTYPE=image/png:https://wearethewheel.com/wp-content/uploads/2026/03/spiritual-book-club.png
ORGANIZER;CN="The Wheel":MAILTO:hello@wearethewheel.com
LOCATION:
END:VEVENT
BEGIN:VEVENT
DTSTART;TZID=America/New_York:20280130T190000
DTEND;TZID=America/New_York:20280130T201500
DTSTAMP:20260420T162656
CREATED:20260413T184627Z
LAST-MODIFIED:20260413T184629Z
UID:10001700-1832871600-1832876100@wearethewheel.com
SUMMARY:Spiritual Book Club
DESCRIPTION:A weekly gathering for thoughtful readers and soulful conversation. \nEach Sunday\, we come together to explore a selected spiritual text and reflect on how its wisdom applies to real life. This is not a lecture. It is a shared space for insight\, honest questions\, and lived experience. \nWhether you have read every page or are simply curious\, you are welcome here.
URL:https://wearethewheel.com/event/spiritual-book-club-2/2028-01-30/
CATEGORIES:Spiritual Book Club
ATTACH;FMTTYPE=image/png:https://wearethewheel.com/wp-content/uploads/2026/03/spiritual-book-club.png
ORGANIZER;CN="The Wheel":MAILTO:hello@wearethewheel.com
LOCATION:
END:VEVENT
BEGIN:VEVENT
DTSTART;TZID=America/New_York:20280206T190000
DTEND;TZID=America/New_York:20280206T201500
DTSTAMP:20260420T162656
CREATED:20260413T184627Z
LAST-MODIFIED:20260413T184629Z
UID:10001701-1833476400-1833480900@wearethewheel.com
SUMMARY:Spiritual Book Club
DESCRIPTION:A weekly gathering for thoughtful readers and soulful conversation. \nEach Sunday\, we come together to explore a selected spiritual text and reflect on how its wisdom applies to real life. This is not a lecture. It is a shared space for insight\, honest questions\, and lived experience. \nWhether you have read every page or are simply curious\, you are welcome here.
URL:https://wearethewheel.com/event/spiritual-book-club-2/2028-02-06/
CATEGORIES:Spiritual Book Club
ATTACH;FMTTYPE=image/png:https://wearethewheel.com/wp-content/uploads/2026/03/spiritual-book-club.png
ORGANIZER;CN="The Wheel":MAILTO:hello@wearethewheel.com
LOCATION:
END:VEVENT
BEGIN:VEVENT
DTSTART;TZID=America/New_York:20280213T190000
DTEND;TZID=America/New_York:20280213T201500
DTSTAMP:20260420T162656
CREATED:20260413T184627Z
LAST-MODIFIED:20260413T184629Z
UID:10001702-1834081200-1834085700@wearethewheel.com
SUMMARY:Spiritual Book Club
DESCRIPTION:A weekly gathering for thoughtful readers and soulful conversation. \nEach Sunday\, we come together to explore a selected spiritual text and reflect on how its wisdom applies to real life. This is not a lecture. It is a shared space for insight\, honest questions\, and lived experience. \nWhether you have read every page or are simply curious\, you are welcome here.
URL:https://wearethewheel.com/event/spiritual-book-club-2/2028-02-13/
CATEGORIES:Spiritual Book Club
ATTACH;FMTTYPE=image/png:https://wearethewheel.com/wp-content/uploads/2026/03/spiritual-book-club.png
ORGANIZER;CN="The Wheel":MAILTO:hello@wearethewheel.com
LOCATION:
END:VEVENT
BEGIN:VEVENT
DTSTART;TZID=America/New_York:20280220T190000
DTEND;TZID=America/New_York:20280220T201500
DTSTAMP:20260420T162656
CREATED:20260413T184627Z
LAST-MODIFIED:20260413T184629Z
UID:10001703-1834686000-1834690500@wearethewheel.com
SUMMARY:Spiritual Book Club
DESCRIPTION:A weekly gathering for thoughtful readers and soulful conversation. \nEach Sunday\, we come together to explore a selected spiritual text and reflect on how its wisdom applies to real life. This is not a lecture. It is a shared space for insight\, honest questions\, and lived experience. \nWhether you have read every page or are simply curious\, you are welcome here.
URL:https://wearethewheel.com/event/spiritual-book-club-2/2028-02-20/
CATEGORIES:Spiritual Book Club
ATTACH;FMTTYPE=image/png:https://wearethewheel.com/wp-content/uploads/2026/03/spiritual-book-club.png
ORGANIZER;CN="The Wheel":MAILTO:hello@wearethewheel.com
LOCATION:
END:VEVENT
BEGIN:VEVENT
DTSTART;TZID=America/New_York:20280227T190000
DTEND;TZID=America/New_York:20280227T201500
DTSTAMP:20260420T162656
CREATED:20260413T184627Z
LAST-MODIFIED:20260413T184629Z
UID:10001704-1835290800-1835295300@wearethewheel.com
SUMMARY:Spiritual Book Club
DESCRIPTION:A weekly gathering for thoughtful readers and soulful conversation. \nEach Sunday\, we come together to explore a selected spiritual text and reflect on how its wisdom applies to real life. This is not a lecture. It is a shared space for insight\, honest questions\, and lived experience. \nWhether you have read every page or are simply curious\, you are welcome here.
URL:https://wearethewheel.com/event/spiritual-book-club-2/2028-02-27/
CATEGORIES:Spiritual Book Club
ATTACH;FMTTYPE=image/png:https://wearethewheel.com/wp-content/uploads/2026/03/spiritual-book-club.png
ORGANIZER;CN="The Wheel":MAILTO:hello@wearethewheel.com
LOCATION:
END:VEVENT
BEGIN:VEVENT
DTSTART;TZID=America/New_York:20280305T190000
DTEND;TZID=America/New_York:20280305T201500
DTSTAMP:20260420T162656
CREATED:20260413T184627Z
LAST-MODIFIED:20260413T184629Z
UID:10001705-1835895600-1835900100@wearethewheel.com
SUMMARY:Spiritual Book Club
DESCRIPTION:A weekly gathering for thoughtful readers and soulful conversation. \nEach Sunday\, we come together to explore a selected spiritual text and reflect on how its wisdom applies to real life. This is not a lecture. It is a shared space for insight\, honest questions\, and lived experience. \nWhether you have read every page or are simply curious\, you are welcome here.
URL:https://wearethewheel.com/event/spiritual-book-club-2/2028-03-05/
CATEGORIES:Spiritual Book Club
ATTACH;FMTTYPE=image/png:https://wearethewheel.com/wp-content/uploads/2026/03/spiritual-book-club.png
ORGANIZER;CN="The Wheel":MAILTO:hello@wearethewheel.com
LOCATION:
END:VEVENT
BEGIN:VEVENT
DTSTART;TZID=America/New_York:20280312T190000
DTEND;TZID=America/New_York:20280312T201500
DTSTAMP:20260420T162656
CREATED:20260413T184627Z
LAST-MODIFIED:20260413T184629Z
UID:10001706-1836500400-1836504900@wearethewheel.com
SUMMARY:Spiritual Book Club
DESCRIPTION:A weekly gathering for thoughtful readers and soulful conversation. \nEach Sunday\, we come together to explore a selected spiritual text and reflect on how its wisdom applies to real life. This is not a lecture. It is a shared space for insight\, honest questions\, and lived experience. \nWhether you have read every page or are simply curious\, you are welcome here.
URL:https://wearethewheel.com/event/spiritual-book-club-2/2028-03-12/
CATEGORIES:Spiritual Book Club
ATTACH;FMTTYPE=image/png:https://wearethewheel.com/wp-content/uploads/2026/03/spiritual-book-club.png
ORGANIZER;CN="The Wheel":MAILTO:hello@wearethewheel.com
LOCATION:
END:VEVENT
BEGIN:VEVENT
DTSTART;TZID=America/New_York:20280319T190000
DTEND;TZID=America/New_York:20280319T201500
DTSTAMP:20260420T162656
CREATED:20260413T184627Z
LAST-MODIFIED:20260413T184629Z
UID:10001707-1837105200-1837109700@wearethewheel.com
SUMMARY:Spiritual Book Club
DESCRIPTION:A weekly gathering for thoughtful readers and soulful conversation. \nEach Sunday\, we come together to explore a selected spiritual text and reflect on how its wisdom applies to real life. This is not a lecture. It is a shared space for insight\, honest questions\, and lived experience. \nWhether you have read every page or are simply curious\, you are welcome here.
URL:https://wearethewheel.com/event/spiritual-book-club-2/2028-03-19/
CATEGORIES:Spiritual Book Club
ATTACH;FMTTYPE=image/png:https://wearethewheel.com/wp-content/uploads/2026/03/spiritual-book-club.png
ORGANIZER;CN="The Wheel":MAILTO:hello@wearethewheel.com
LOCATION:
END:VEVENT
BEGIN:VEVENT
DTSTART;TZID=America/New_York:20280326T190000
DTEND;TZID=America/New_York:20280326T201500
DTSTAMP:20260420T162656
CREATED:20260413T184627Z
LAST-MODIFIED:20260413T184629Z
UID:10001708-1837710000-1837714500@wearethewheel.com
SUMMARY:Spiritual Book Club
DESCRIPTION:A weekly gathering for thoughtful readers and soulful conversation. \nEach Sunday\, we come together to explore a selected spiritual text and reflect on how its wisdom applies to real life. This is not a lecture. It is a shared space for insight\, honest questions\, and lived experience. \nWhether you have read every page or are simply curious\, you are welcome here.
URL:https://wearethewheel.com/event/spiritual-book-club-2/2028-03-26/
CATEGORIES:Spiritual Book Club
ATTACH;FMTTYPE=image/png:https://wearethewheel.com/wp-content/uploads/2026/03/spiritual-book-club.png
ORGANIZER;CN="The Wheel":MAILTO:hello@wearethewheel.com
LOCATION:
END:VEVENT
BEGIN:VEVENT
DTSTART;TZID=America/New_York:20280402T190000
DTEND;TZID=America/New_York:20280402T201500
DTSTAMP:20260420T162656
CREATED:20260413T184627Z
LAST-MODIFIED:20260413T184629Z
UID:10001709-1838314800-1838319300@wearethewheel.com
SUMMARY:Spiritual Book Club
DESCRIPTION:A weekly gathering for thoughtful readers and soulful conversation. \nEach Sunday\, we come together to explore a selected spiritual text and reflect on how its wisdom applies to real life. This is not a lecture. It is a shared space for insight\, honest questions\, and lived experience. \nWhether you have read every page or are simply curious\, you are welcome here.
URL:https://wearethewheel.com/event/spiritual-book-club-2/2028-04-02/
CATEGORIES:Spiritual Book Club
ATTACH;FMTTYPE=image/png:https://wearethewheel.com/wp-content/uploads/2026/03/spiritual-book-club.png
ORGANIZER;CN="The Wheel":MAILTO:hello@wearethewheel.com
LOCATION:
END:VEVENT
BEGIN:VEVENT
DTSTART;TZID=America/New_York:20280409T190000
DTEND;TZID=America/New_York:20280409T201500
DTSTAMP:20260420T162656
CREATED:20260413T184627Z
LAST-MODIFIED:20260413T184629Z
UID:10001710-1838919600-1838924100@wearethewheel.com
SUMMARY:Spiritual Book Club
DESCRIPTION:A weekly gathering for thoughtful readers and soulful conversation. \nEach Sunday\, we come together to explore a selected spiritual text and reflect on how its wisdom applies to real life. This is not a lecture. It is a shared space for insight\, honest questions\, and lived experience. \nWhether you have read every page or are simply curious\, you are welcome here.
URL:https://wearethewheel.com/event/spiritual-book-club-2/2028-04-09/
CATEGORIES:Spiritual Book Club
ATTACH;FMTTYPE=image/png:https://wearethewheel.com/wp-content/uploads/2026/03/spiritual-book-club.png
ORGANIZER;CN="The Wheel":MAILTO:hello@wearethewheel.com
LOCATION:
END:VEVENT
BEGIN:VEVENT
DTSTART;TZID=America/New_York:20280416T190000
DTEND;TZID=America/New_York:20280416T201500
DTSTAMP:20260420T162656
CREATED:20260413T184627Z
LAST-MODIFIED:20260413T184629Z
UID:10001711-1839524400-1839528900@wearethewheel.com
SUMMARY:Spiritual Book Club
DESCRIPTION:A weekly gathering for thoughtful readers and soulful conversation. \nEach Sunday\, we come together to explore a selected spiritual text and reflect on how its wisdom applies to real life. This is not a lecture. It is a shared space for insight\, honest questions\, and lived experience. \nWhether you have read every page or are simply curious\, you are welcome here.
URL:https://wearethewheel.com/event/spiritual-book-club-2/2028-04-16/
CATEGORIES:Spiritual Book Club
ATTACH;FMTTYPE=image/png:https://wearethewheel.com/wp-content/uploads/2026/03/spiritual-book-club.png
ORGANIZER;CN="The Wheel":MAILTO:hello@wearethewheel.com
LOCATION:
END:VEVENT
BEGIN:VEVENT
DTSTART;TZID=America/New_York:20280423T190000
DTEND;TZID=America/New_York:20280423T201500
DTSTAMP:20260420T162656
CREATED:20260413T184627Z
LAST-MODIFIED:20260413T184629Z
UID:10001712-1840129200-1840133700@wearethewheel.com
SUMMARY:Spiritual Book Club
DESCRIPTION:A weekly gathering for thoughtful readers and soulful conversation. \nEach Sunday\, we come together to explore a selected spiritual text and reflect on how its wisdom applies to real life. This is not a lecture. It is a shared space for insight\, honest questions\, and lived experience. \nWhether you have read every page or are simply curious\, you are welcome here.
URL:https://wearethewheel.com/event/spiritual-book-club-2/2028-04-23/
CATEGORIES:Spiritual Book Club
ATTACH;FMTTYPE=image/png:https://wearethewheel.com/wp-content/uploads/2026/03/spiritual-book-club.png
ORGANIZER;CN="The Wheel":MAILTO:hello@wearethewheel.com
LOCATION:
END:VEVENT
BEGIN:VEVENT
DTSTART;TZID=America/New_York:20280430T190000
DTEND;TZID=America/New_York:20280430T201500
DTSTAMP:20260420T162656
CREATED:20260413T184627Z
LAST-MODIFIED:20260413T184629Z
UID:10001713-1840734000-1840738500@wearethewheel.com
SUMMARY:Spiritual Book Club
DESCRIPTION:A weekly gathering for thoughtful readers and soulful conversation. \nEach Sunday\, we come together to explore a selected spiritual text and reflect on how its wisdom applies to real life. This is not a lecture. It is a shared space for insight\, honest questions\, and lived experience. \nWhether you have read every page or are simply curious\, you are welcome here.
URL:https://wearethewheel.com/event/spiritual-book-club-2/2028-04-30/
CATEGORIES:Spiritual Book Club
ATTACH;FMTTYPE=image/png:https://wearethewheel.com/wp-content/uploads/2026/03/spiritual-book-club.png
ORGANIZER;CN="The Wheel":MAILTO:hello@wearethewheel.com
LOCATION:
END:VEVENT
BEGIN:VEVENT
DTSTART;TZID=America/New_York:20280507T190000
DTEND;TZID=America/New_York:20280507T201500
DTSTAMP:20260420T162656
CREATED:20260413T184627Z
LAST-MODIFIED:20260413T184629Z
UID:10001714-1841338800-1841343300@wearethewheel.com
SUMMARY:Spiritual Book Club
DESCRIPTION:A weekly gathering for thoughtful readers and soulful conversation. \nEach Sunday\, we come together to explore a selected spiritual text and reflect on how its wisdom applies to real life. This is not a lecture. It is a shared space for insight\, honest questions\, and lived experience. \nWhether you have read every page or are simply curious\, you are welcome here.
URL:https://wearethewheel.com/event/spiritual-book-club-2/2028-05-07/
CATEGORIES:Spiritual Book Club
ATTACH;FMTTYPE=image/png:https://wearethewheel.com/wp-content/uploads/2026/03/spiritual-book-club.png
ORGANIZER;CN="The Wheel":MAILTO:hello@wearethewheel.com
LOCATION:
END:VEVENT
BEGIN:VEVENT
DTSTART;TZID=America/New_York:20280514T190000
DTEND;TZID=America/New_York:20280514T201500
DTSTAMP:20260420T162656
CREATED:20260413T184627Z
LAST-MODIFIED:20260413T184629Z
UID:10001715-1841943600-1841948100@wearethewheel.com
SUMMARY:Spiritual Book Club
DESCRIPTION:A weekly gathering for thoughtful readers and soulful conversation. \nEach Sunday\, we come together to explore a selected spiritual text and reflect on how its wisdom applies to real life. This is not a lecture. It is a shared space for insight\, honest questions\, and lived experience. \nWhether you have read every page or are simply curious\, you are welcome here.
URL:https://wearethewheel.com/event/spiritual-book-club-2/2028-05-14/
CATEGORIES:Spiritual Book Club
ATTACH;FMTTYPE=image/png:https://wearethewheel.com/wp-content/uploads/2026/03/spiritual-book-club.png
ORGANIZER;CN="The Wheel":MAILTO:hello@wearethewheel.com
LOCATION:
END:VEVENT
BEGIN:VEVENT
DTSTART;TZID=America/New_York:20280521T190000
DTEND;TZID=America/New_York:20280521T201500
DTSTAMP:20260420T162656
CREATED:20260413T184627Z
LAST-MODIFIED:20260413T184629Z
UID:10001716-1842548400-1842552900@wearethewheel.com
SUMMARY:Spiritual Book Club
DESCRIPTION:A weekly gathering for thoughtful readers and soulful conversation. \nEach Sunday\, we come together to explore a selected spiritual text and reflect on how its wisdom applies to real life. This is not a lecture. It is a shared space for insight\, honest questions\, and lived experience. \nWhether you have read every page or are simply curious\, you are welcome here.
URL:https://wearethewheel.com/event/spiritual-book-club-2/2028-05-21/
CATEGORIES:Spiritual Book Club
ATTACH;FMTTYPE=image/png:https://wearethewheel.com/wp-content/uploads/2026/03/spiritual-book-club.png
ORGANIZER;CN="The Wheel":MAILTO:hello@wearethewheel.com
LOCATION:
END:VEVENT
BEGIN:VEVENT
DTSTART;TZID=America/New_York:20280528T190000
DTEND;TZID=America/New_York:20280528T201500
DTSTAMP:20260420T162656
CREATED:20260413T184627Z
LAST-MODIFIED:20260413T184629Z
UID:10001717-1843153200-1843157700@wearethewheel.com
SUMMARY:Spiritual Book Club
DESCRIPTION:A weekly gathering for thoughtful readers and soulful conversation. \nEach Sunday\, we come together to explore a selected spiritual text and reflect on how its wisdom applies to real life. This is not a lecture. It is a shared space for insight\, honest questions\, and lived experience. \nWhether you have read every page or are simply curious\, you are welcome here.
URL:https://wearethewheel.com/event/spiritual-book-club-2/2028-05-28/
CATEGORIES:Spiritual Book Club
ATTACH;FMTTYPE=image/png:https://wearethewheel.com/wp-content/uploads/2026/03/spiritual-book-club.png
ORGANIZER;CN="The Wheel":MAILTO:hello@wearethewheel.com
LOCATION:
END:VEVENT
BEGIN:VEVENT
DTSTART;TZID=America/New_York:20280604T190000
DTEND;TZID=America/New_York:20280604T201500
DTSTAMP:20260420T162656
CREATED:20260413T184627Z
LAST-MODIFIED:20260413T184629Z
UID:10001718-1843758000-1843762500@wearethewheel.com
SUMMARY:Spiritual Book Club
DESCRIPTION:A weekly gathering for thoughtful readers and soulful conversation. \nEach Sunday\, we come together to explore a selected spiritual text and reflect on how its wisdom applies to real life. This is not a lecture. It is a shared space for insight\, honest questions\, and lived experience. \nWhether you have read every page or are simply curious\, you are welcome here.
URL:https://wearethewheel.com/event/spiritual-book-club-2/2028-06-04/
CATEGORIES:Spiritual Book Club
ATTACH;FMTTYPE=image/png:https://wearethewheel.com/wp-content/uploads/2026/03/spiritual-book-club.png
ORGANIZER;CN="The Wheel":MAILTO:hello@wearethewheel.com
LOCATION:
END:VEVENT
BEGIN:VEVENT
DTSTART;TZID=America/New_York:20280611T190000
DTEND;TZID=America/New_York:20280611T201500
DTSTAMP:20260420T162656
CREATED:20260413T184627Z
LAST-MODIFIED:20260413T184629Z
UID:10001719-1844362800-1844367300@wearethewheel.com
SUMMARY:Spiritual Book Club
DESCRIPTION:A weekly gathering for thoughtful readers and soulful conversation. \nEach Sunday\, we come together to explore a selected spiritual text and reflect on how its wisdom applies to real life. This is not a lecture. It is a shared space for insight\, honest questions\, and lived experience. \nWhether you have read every page or are simply curious\, you are welcome here.
URL:https://wearethewheel.com/event/spiritual-book-club-2/2028-06-11/
CATEGORIES:Spiritual Book Club
ATTACH;FMTTYPE=image/png:https://wearethewheel.com/wp-content/uploads/2026/03/spiritual-book-club.png
ORGANIZER;CN="The Wheel":MAILTO:hello@wearethewheel.com
LOCATION:
END:VEVENT
BEGIN:VEVENT
DTSTART;TZID=America/New_York:20280618T190000
DTEND;TZID=America/New_York:20280618T201500
DTSTAMP:20260420T162656
CREATED:20260413T184627Z
LAST-MODIFIED:20260413T184629Z
UID:10001720-1844967600-1844972100@wearethewheel.com
SUMMARY:Spiritual Book Club
DESCRIPTION:A weekly gathering for thoughtful readers and soulful conversation. \nEach Sunday\, we come together to explore a selected spiritual text and reflect on how its wisdom applies to real life. This is not a lecture. It is a shared space for insight\, honest questions\, and lived experience. \nWhether you have read every page or are simply curious\, you are welcome here.
URL:https://wearethewheel.com/event/spiritual-book-club-2/2028-06-18/
CATEGORIES:Spiritual Book Club
ATTACH;FMTTYPE=image/png:https://wearethewheel.com/wp-content/uploads/2026/03/spiritual-book-club.png
ORGANIZER;CN="The Wheel":MAILTO:hello@wearethewheel.com
LOCATION:
END:VEVENT
BEGIN:VEVENT
DTSTART;TZID=America/New_York:20280625T190000
DTEND;TZID=America/New_York:20280625T201500
DTSTAMP:20260420T162656
CREATED:20260413T184627Z
LAST-MODIFIED:20260413T184629Z
UID:10001721-1845572400-1845576900@wearethewheel.com
SUMMARY:Spiritual Book Club
DESCRIPTION:A weekly gathering for thoughtful readers and soulful conversation. \nEach Sunday\, we come together to explore a selected spiritual text and reflect on how its wisdom applies to real life. This is not a lecture. It is a shared space for insight\, honest questions\, and lived experience. \nWhether you have read every page or are simply curious\, you are welcome here.
URL:https://wearethewheel.com/event/spiritual-book-club-2/2028-06-25/
CATEGORIES:Spiritual Book Club
ATTACH;FMTTYPE=image/png:https://wearethewheel.com/wp-content/uploads/2026/03/spiritual-book-club.png
ORGANIZER;CN="The Wheel":MAILTO:hello@wearethewheel.com
LOCATION:
END:VEVENT
END:VCALENDAR