BEGIN:VCALENDAR
VERSION:2.0
PRODID:-//The Wheel - ECPv6.15.20//NONSGML v1.0//EN
CALSCALE:GREGORIAN
METHOD:PUBLISH
X-WR-CALNAME:The Wheel
X-ORIGINAL-URL:https://wearethewheel.com
X-WR-CALDESC:Events for The Wheel
REFRESH-INTERVAL;VALUE=DURATION:PT1H
X-Robots-Tag:noindex
X-PUBLISHED-TTL:PT1H
BEGIN:VTIMEZONE
TZID:America/New_York
BEGIN:DAYLIGHT
TZOFFSETFROM:-0500
TZOFFSETTO:-0400
TZNAME:EDT
DTSTART:20260308T070000
END:DAYLIGHT
BEGIN:STANDARD
TZOFFSETFROM:-0400
TZOFFSETTO:-0500
TZNAME:EST
DTSTART:20261101T060000
END:STANDARD
BEGIN:DAYLIGHT
TZOFFSETFROM:-0500
TZOFFSETTO:-0400
TZNAME:EDT
DTSTART:20270314T070000
END:DAYLIGHT
BEGIN:STANDARD
TZOFFSETFROM:-0400
TZOFFSETTO:-0500
TZNAME:EST
DTSTART:20271107T060000
END:STANDARD
BEGIN:DAYLIGHT
TZOFFSETFROM:-0500
TZOFFSETTO:-0400
TZNAME:EDT
DTSTART:20280312T070000
END:DAYLIGHT
BEGIN:STANDARD
TZOFFSETFROM:-0400
TZOFFSETTO:-0500
TZNAME:EST
DTSTART:20281105T060000
END:STANDARD
END:VTIMEZONE
BEGIN:VEVENT
DTSTART;TZID=America/New_York:20270404T190000
DTEND;TZID=America/New_York:20270404T201500
DTSTAMP:20260420T002748
CREATED:20260413T184627Z
LAST-MODIFIED:20260413T184629Z
UID:10001657-1806865200-1806869700@wearethewheel.com
SUMMARY:Spiritual Book Club
DESCRIPTION:A weekly gathering for thoughtful readers and soulful conversation. \nEach Sunday\, we come together to explore a selected spiritual text and reflect on how its wisdom applies to real life. This is not a lecture. It is a shared space for insight\, honest questions\, and lived experience. \nWhether you have read every page or are simply curious\, you are welcome here.
URL:https://wearethewheel.com/event/spiritual-book-club-2/2027-04-04/
CATEGORIES:Spiritual Book Club
ATTACH;FMTTYPE=image/png:https://wearethewheel.com/wp-content/uploads/2026/03/spiritual-book-club.png
ORGANIZER;CN="The Wheel":MAILTO:hello@wearethewheel.com
LOCATION:
END:VEVENT
BEGIN:VEVENT
DTSTART;TZID=America/New_York:20270411T190000
DTEND;TZID=America/New_York:20270411T201500
DTSTAMP:20260420T002748
CREATED:20260413T184627Z
LAST-MODIFIED:20260413T184629Z
UID:10001658-1807470000-1807474500@wearethewheel.com
SUMMARY:Spiritual Book Club
DESCRIPTION:A weekly gathering for thoughtful readers and soulful conversation. \nEach Sunday\, we come together to explore a selected spiritual text and reflect on how its wisdom applies to real life. This is not a lecture. It is a shared space for insight\, honest questions\, and lived experience. \nWhether you have read every page or are simply curious\, you are welcome here.
URL:https://wearethewheel.com/event/spiritual-book-club-2/2027-04-11/
CATEGORIES:Spiritual Book Club
ATTACH;FMTTYPE=image/png:https://wearethewheel.com/wp-content/uploads/2026/03/spiritual-book-club.png
ORGANIZER;CN="The Wheel":MAILTO:hello@wearethewheel.com
LOCATION:
END:VEVENT
BEGIN:VEVENT
DTSTART;TZID=America/New_York:20270418T190000
DTEND;TZID=America/New_York:20270418T201500
DTSTAMP:20260420T002748
CREATED:20260413T184627Z
LAST-MODIFIED:20260413T184629Z
UID:10001659-1808074800-1808079300@wearethewheel.com
SUMMARY:Spiritual Book Club
DESCRIPTION:A weekly gathering for thoughtful readers and soulful conversation. \nEach Sunday\, we come together to explore a selected spiritual text and reflect on how its wisdom applies to real life. This is not a lecture. It is a shared space for insight\, honest questions\, and lived experience. \nWhether you have read every page or are simply curious\, you are welcome here.
URL:https://wearethewheel.com/event/spiritual-book-club-2/2027-04-18/
CATEGORIES:Spiritual Book Club
ATTACH;FMTTYPE=image/png:https://wearethewheel.com/wp-content/uploads/2026/03/spiritual-book-club.png
ORGANIZER;CN="The Wheel":MAILTO:hello@wearethewheel.com
LOCATION:
END:VEVENT
BEGIN:VEVENT
DTSTART;TZID=America/New_York:20270425T190000
DTEND;TZID=America/New_York:20270425T201500
DTSTAMP:20260420T002748
CREATED:20260413T184627Z
LAST-MODIFIED:20260413T184629Z
UID:10001660-1808679600-1808684100@wearethewheel.com
SUMMARY:Spiritual Book Club
DESCRIPTION:A weekly gathering for thoughtful readers and soulful conversation. \nEach Sunday\, we come together to explore a selected spiritual text and reflect on how its wisdom applies to real life. This is not a lecture. It is a shared space for insight\, honest questions\, and lived experience. \nWhether you have read every page or are simply curious\, you are welcome here.
URL:https://wearethewheel.com/event/spiritual-book-club-2/2027-04-25/
CATEGORIES:Spiritual Book Club
ATTACH;FMTTYPE=image/png:https://wearethewheel.com/wp-content/uploads/2026/03/spiritual-book-club.png
ORGANIZER;CN="The Wheel":MAILTO:hello@wearethewheel.com
LOCATION:
END:VEVENT
BEGIN:VEVENT
DTSTART;TZID=America/New_York:20270502T190000
DTEND;TZID=America/New_York:20270502T201500
DTSTAMP:20260420T002748
CREATED:20260413T184627Z
LAST-MODIFIED:20260413T184629Z
UID:10001661-1809284400-1809288900@wearethewheel.com
SUMMARY:Spiritual Book Club
DESCRIPTION:A weekly gathering for thoughtful readers and soulful conversation. \nEach Sunday\, we come together to explore a selected spiritual text and reflect on how its wisdom applies to real life. This is not a lecture. It is a shared space for insight\, honest questions\, and lived experience. \nWhether you have read every page or are simply curious\, you are welcome here.
URL:https://wearethewheel.com/event/spiritual-book-club-2/2027-05-02/
CATEGORIES:Spiritual Book Club
ATTACH;FMTTYPE=image/png:https://wearethewheel.com/wp-content/uploads/2026/03/spiritual-book-club.png
ORGANIZER;CN="The Wheel":MAILTO:hello@wearethewheel.com
LOCATION:
END:VEVENT
BEGIN:VEVENT
DTSTART;TZID=America/New_York:20270509T190000
DTEND;TZID=America/New_York:20270509T201500
DTSTAMP:20260420T002748
CREATED:20260413T184627Z
LAST-MODIFIED:20260413T184629Z
UID:10001662-1809889200-1809893700@wearethewheel.com
SUMMARY:Spiritual Book Club
DESCRIPTION:A weekly gathering for thoughtful readers and soulful conversation. \nEach Sunday\, we come together to explore a selected spiritual text and reflect on how its wisdom applies to real life. This is not a lecture. It is a shared space for insight\, honest questions\, and lived experience. \nWhether you have read every page or are simply curious\, you are welcome here.
URL:https://wearethewheel.com/event/spiritual-book-club-2/2027-05-09/
CATEGORIES:Spiritual Book Club
ATTACH;FMTTYPE=image/png:https://wearethewheel.com/wp-content/uploads/2026/03/spiritual-book-club.png
ORGANIZER;CN="The Wheel":MAILTO:hello@wearethewheel.com
LOCATION:
END:VEVENT
BEGIN:VEVENT
DTSTART;TZID=America/New_York:20270516T190000
DTEND;TZID=America/New_York:20270516T201500
DTSTAMP:20260420T002748
CREATED:20260413T184627Z
LAST-MODIFIED:20260413T184629Z
UID:10001663-1810494000-1810498500@wearethewheel.com
SUMMARY:Spiritual Book Club
DESCRIPTION:A weekly gathering for thoughtful readers and soulful conversation. \nEach Sunday\, we come together to explore a selected spiritual text and reflect on how its wisdom applies to real life. This is not a lecture. It is a shared space for insight\, honest questions\, and lived experience. \nWhether you have read every page or are simply curious\, you are welcome here.
URL:https://wearethewheel.com/event/spiritual-book-club-2/2027-05-16/
CATEGORIES:Spiritual Book Club
ATTACH;FMTTYPE=image/png:https://wearethewheel.com/wp-content/uploads/2026/03/spiritual-book-club.png
ORGANIZER;CN="The Wheel":MAILTO:hello@wearethewheel.com
LOCATION:
END:VEVENT
BEGIN:VEVENT
DTSTART;TZID=America/New_York:20270523T190000
DTEND;TZID=America/New_York:20270523T201500
DTSTAMP:20260420T002748
CREATED:20260413T184627Z
LAST-MODIFIED:20260413T184629Z
UID:10001664-1811098800-1811103300@wearethewheel.com
SUMMARY:Spiritual Book Club
DESCRIPTION:A weekly gathering for thoughtful readers and soulful conversation. \nEach Sunday\, we come together to explore a selected spiritual text and reflect on how its wisdom applies to real life. This is not a lecture. It is a shared space for insight\, honest questions\, and lived experience. \nWhether you have read every page or are simply curious\, you are welcome here.
URL:https://wearethewheel.com/event/spiritual-book-club-2/2027-05-23/
CATEGORIES:Spiritual Book Club
ATTACH;FMTTYPE=image/png:https://wearethewheel.com/wp-content/uploads/2026/03/spiritual-book-club.png
ORGANIZER;CN="The Wheel":MAILTO:hello@wearethewheel.com
LOCATION:
END:VEVENT
BEGIN:VEVENT
DTSTART;TZID=America/New_York:20270530T190000
DTEND;TZID=America/New_York:20270530T201500
DTSTAMP:20260420T002748
CREATED:20260413T184627Z
LAST-MODIFIED:20260413T184629Z
UID:10001665-1811703600-1811708100@wearethewheel.com
SUMMARY:Spiritual Book Club
DESCRIPTION:A weekly gathering for thoughtful readers and soulful conversation. \nEach Sunday\, we come together to explore a selected spiritual text and reflect on how its wisdom applies to real life. This is not a lecture. It is a shared space for insight\, honest questions\, and lived experience. \nWhether you have read every page or are simply curious\, you are welcome here.
URL:https://wearethewheel.com/event/spiritual-book-club-2/2027-05-30/
CATEGORIES:Spiritual Book Club
ATTACH;FMTTYPE=image/png:https://wearethewheel.com/wp-content/uploads/2026/03/spiritual-book-club.png
ORGANIZER;CN="The Wheel":MAILTO:hello@wearethewheel.com
LOCATION:
END:VEVENT
BEGIN:VEVENT
DTSTART;TZID=America/New_York:20270606T190000
DTEND;TZID=America/New_York:20270606T201500
DTSTAMP:20260420T002748
CREATED:20260413T184627Z
LAST-MODIFIED:20260413T184629Z
UID:10001666-1812308400-1812312900@wearethewheel.com
SUMMARY:Spiritual Book Club
DESCRIPTION:A weekly gathering for thoughtful readers and soulful conversation. \nEach Sunday\, we come together to explore a selected spiritual text and reflect on how its wisdom applies to real life. This is not a lecture. It is a shared space for insight\, honest questions\, and lived experience. \nWhether you have read every page or are simply curious\, you are welcome here.
URL:https://wearethewheel.com/event/spiritual-book-club-2/2027-06-06/
CATEGORIES:Spiritual Book Club
ATTACH;FMTTYPE=image/png:https://wearethewheel.com/wp-content/uploads/2026/03/spiritual-book-club.png
ORGANIZER;CN="The Wheel":MAILTO:hello@wearethewheel.com
LOCATION:
END:VEVENT
BEGIN:VEVENT
DTSTART;TZID=America/New_York:20270613T190000
DTEND;TZID=America/New_York:20270613T201500
DTSTAMP:20260420T002748
CREATED:20260413T184627Z
LAST-MODIFIED:20260413T184629Z
UID:10001667-1812913200-1812917700@wearethewheel.com
SUMMARY:Spiritual Book Club
DESCRIPTION:A weekly gathering for thoughtful readers and soulful conversation. \nEach Sunday\, we come together to explore a selected spiritual text and reflect on how its wisdom applies to real life. This is not a lecture. It is a shared space for insight\, honest questions\, and lived experience. \nWhether you have read every page or are simply curious\, you are welcome here.
URL:https://wearethewheel.com/event/spiritual-book-club-2/2027-06-13/
CATEGORIES:Spiritual Book Club
ATTACH;FMTTYPE=image/png:https://wearethewheel.com/wp-content/uploads/2026/03/spiritual-book-club.png
ORGANIZER;CN="The Wheel":MAILTO:hello@wearethewheel.com
LOCATION:
END:VEVENT
BEGIN:VEVENT
DTSTART;TZID=America/New_York:20270620T190000
DTEND;TZID=America/New_York:20270620T201500
DTSTAMP:20260420T002748
CREATED:20260413T184627Z
LAST-MODIFIED:20260413T184629Z
UID:10001668-1813518000-1813522500@wearethewheel.com
SUMMARY:Spiritual Book Club
DESCRIPTION:A weekly gathering for thoughtful readers and soulful conversation. \nEach Sunday\, we come together to explore a selected spiritual text and reflect on how its wisdom applies to real life. This is not a lecture. It is a shared space for insight\, honest questions\, and lived experience. \nWhether you have read every page or are simply curious\, you are welcome here.
URL:https://wearethewheel.com/event/spiritual-book-club-2/2027-06-20/
CATEGORIES:Spiritual Book Club
ATTACH;FMTTYPE=image/png:https://wearethewheel.com/wp-content/uploads/2026/03/spiritual-book-club.png
ORGANIZER;CN="The Wheel":MAILTO:hello@wearethewheel.com
LOCATION:
END:VEVENT
BEGIN:VEVENT
DTSTART;TZID=America/New_York:20270627T190000
DTEND;TZID=America/New_York:20270627T201500
DTSTAMP:20260420T002748
CREATED:20260413T184627Z
LAST-MODIFIED:20260413T184629Z
UID:10001669-1814122800-1814127300@wearethewheel.com
SUMMARY:Spiritual Book Club
DESCRIPTION:A weekly gathering for thoughtful readers and soulful conversation. \nEach Sunday\, we come together to explore a selected spiritual text and reflect on how its wisdom applies to real life. This is not a lecture. It is a shared space for insight\, honest questions\, and lived experience. \nWhether you have read every page or are simply curious\, you are welcome here.
URL:https://wearethewheel.com/event/spiritual-book-club-2/2027-06-27/
CATEGORIES:Spiritual Book Club
ATTACH;FMTTYPE=image/png:https://wearethewheel.com/wp-content/uploads/2026/03/spiritual-book-club.png
ORGANIZER;CN="The Wheel":MAILTO:hello@wearethewheel.com
LOCATION:
END:VEVENT
BEGIN:VEVENT
DTSTART;TZID=America/New_York:20270704T190000
DTEND;TZID=America/New_York:20270704T201500
DTSTAMP:20260420T002748
CREATED:20260413T184627Z
LAST-MODIFIED:20260413T184629Z
UID:10001670-1814727600-1814732100@wearethewheel.com
SUMMARY:Spiritual Book Club
DESCRIPTION:A weekly gathering for thoughtful readers and soulful conversation. \nEach Sunday\, we come together to explore a selected spiritual text and reflect on how its wisdom applies to real life. This is not a lecture. It is a shared space for insight\, honest questions\, and lived experience. \nWhether you have read every page or are simply curious\, you are welcome here.
URL:https://wearethewheel.com/event/spiritual-book-club-2/2027-07-04/
CATEGORIES:Spiritual Book Club
ATTACH;FMTTYPE=image/png:https://wearethewheel.com/wp-content/uploads/2026/03/spiritual-book-club.png
ORGANIZER;CN="The Wheel":MAILTO:hello@wearethewheel.com
LOCATION:
END:VEVENT
BEGIN:VEVENT
DTSTART;TZID=America/New_York:20270711T190000
DTEND;TZID=America/New_York:20270711T201500
DTSTAMP:20260420T002748
CREATED:20260413T184627Z
LAST-MODIFIED:20260413T184629Z
UID:10001671-1815332400-1815336900@wearethewheel.com
SUMMARY:Spiritual Book Club
DESCRIPTION:A weekly gathering for thoughtful readers and soulful conversation. \nEach Sunday\, we come together to explore a selected spiritual text and reflect on how its wisdom applies to real life. This is not a lecture. It is a shared space for insight\, honest questions\, and lived experience. \nWhether you have read every page or are simply curious\, you are welcome here.
URL:https://wearethewheel.com/event/spiritual-book-club-2/2027-07-11/
CATEGORIES:Spiritual Book Club
ATTACH;FMTTYPE=image/png:https://wearethewheel.com/wp-content/uploads/2026/03/spiritual-book-club.png
ORGANIZER;CN="The Wheel":MAILTO:hello@wearethewheel.com
LOCATION:
END:VEVENT
BEGIN:VEVENT
DTSTART;TZID=America/New_York:20270718T190000
DTEND;TZID=America/New_York:20270718T201500
DTSTAMP:20260420T002748
CREATED:20260413T184627Z
LAST-MODIFIED:20260413T184629Z
UID:10001672-1815937200-1815941700@wearethewheel.com
SUMMARY:Spiritual Book Club
DESCRIPTION:A weekly gathering for thoughtful readers and soulful conversation. \nEach Sunday\, we come together to explore a selected spiritual text and reflect on how its wisdom applies to real life. This is not a lecture. It is a shared space for insight\, honest questions\, and lived experience. \nWhether you have read every page or are simply curious\, you are welcome here.
URL:https://wearethewheel.com/event/spiritual-book-club-2/2027-07-18/
CATEGORIES:Spiritual Book Club
ATTACH;FMTTYPE=image/png:https://wearethewheel.com/wp-content/uploads/2026/03/spiritual-book-club.png
ORGANIZER;CN="The Wheel":MAILTO:hello@wearethewheel.com
LOCATION:
END:VEVENT
BEGIN:VEVENT
DTSTART;TZID=America/New_York:20270725T190000
DTEND;TZID=America/New_York:20270725T201500
DTSTAMP:20260420T002748
CREATED:20260413T184627Z
LAST-MODIFIED:20260413T184629Z
UID:10001673-1816542000-1816546500@wearethewheel.com
SUMMARY:Spiritual Book Club
DESCRIPTION:A weekly gathering for thoughtful readers and soulful conversation. \nEach Sunday\, we come together to explore a selected spiritual text and reflect on how its wisdom applies to real life. This is not a lecture. It is a shared space for insight\, honest questions\, and lived experience. \nWhether you have read every page or are simply curious\, you are welcome here.
URL:https://wearethewheel.com/event/spiritual-book-club-2/2027-07-25/
CATEGORIES:Spiritual Book Club
ATTACH;FMTTYPE=image/png:https://wearethewheel.com/wp-content/uploads/2026/03/spiritual-book-club.png
ORGANIZER;CN="The Wheel":MAILTO:hello@wearethewheel.com
LOCATION:
END:VEVENT
BEGIN:VEVENT
DTSTART;TZID=America/New_York:20270801T190000
DTEND;TZID=America/New_York:20270801T201500
DTSTAMP:20260420T002748
CREATED:20260413T184627Z
LAST-MODIFIED:20260413T184629Z
UID:10001674-1817146800-1817151300@wearethewheel.com
SUMMARY:Spiritual Book Club
DESCRIPTION:A weekly gathering for thoughtful readers and soulful conversation. \nEach Sunday\, we come together to explore a selected spiritual text and reflect on how its wisdom applies to real life. This is not a lecture. It is a shared space for insight\, honest questions\, and lived experience. \nWhether you have read every page or are simply curious\, you are welcome here.
URL:https://wearethewheel.com/event/spiritual-book-club-2/2027-08-01/
CATEGORIES:Spiritual Book Club
ATTACH;FMTTYPE=image/png:https://wearethewheel.com/wp-content/uploads/2026/03/spiritual-book-club.png
ORGANIZER;CN="The Wheel":MAILTO:hello@wearethewheel.com
LOCATION:
END:VEVENT
BEGIN:VEVENT
DTSTART;TZID=America/New_York:20270808T190000
DTEND;TZID=America/New_York:20270808T201500
DTSTAMP:20260420T002748
CREATED:20260413T184627Z
LAST-MODIFIED:20260413T184629Z
UID:10001675-1817751600-1817756100@wearethewheel.com
SUMMARY:Spiritual Book Club
DESCRIPTION:A weekly gathering for thoughtful readers and soulful conversation. \nEach Sunday\, we come together to explore a selected spiritual text and reflect on how its wisdom applies to real life. This is not a lecture. It is a shared space for insight\, honest questions\, and lived experience. \nWhether you have read every page or are simply curious\, you are welcome here.
URL:https://wearethewheel.com/event/spiritual-book-club-2/2027-08-08/
CATEGORIES:Spiritual Book Club
ATTACH;FMTTYPE=image/png:https://wearethewheel.com/wp-content/uploads/2026/03/spiritual-book-club.png
ORGANIZER;CN="The Wheel":MAILTO:hello@wearethewheel.com
LOCATION:
END:VEVENT
BEGIN:VEVENT
DTSTART;TZID=America/New_York:20270815T190000
DTEND;TZID=America/New_York:20270815T201500
DTSTAMP:20260420T002748
CREATED:20260413T184627Z
LAST-MODIFIED:20260413T184629Z
UID:10001676-1818356400-1818360900@wearethewheel.com
SUMMARY:Spiritual Book Club
DESCRIPTION:A weekly gathering for thoughtful readers and soulful conversation. \nEach Sunday\, we come together to explore a selected spiritual text and reflect on how its wisdom applies to real life. This is not a lecture. It is a shared space for insight\, honest questions\, and lived experience. \nWhether you have read every page or are simply curious\, you are welcome here.
URL:https://wearethewheel.com/event/spiritual-book-club-2/2027-08-15/
CATEGORIES:Spiritual Book Club
ATTACH;FMTTYPE=image/png:https://wearethewheel.com/wp-content/uploads/2026/03/spiritual-book-club.png
ORGANIZER;CN="The Wheel":MAILTO:hello@wearethewheel.com
LOCATION:
END:VEVENT
BEGIN:VEVENT
DTSTART;TZID=America/New_York:20270822T190000
DTEND;TZID=America/New_York:20270822T201500
DTSTAMP:20260420T002748
CREATED:20260413T184627Z
LAST-MODIFIED:20260413T184629Z
UID:10001677-1818961200-1818965700@wearethewheel.com
SUMMARY:Spiritual Book Club
DESCRIPTION:A weekly gathering for thoughtful readers and soulful conversation. \nEach Sunday\, we come together to explore a selected spiritual text and reflect on how its wisdom applies to real life. This is not a lecture. It is a shared space for insight\, honest questions\, and lived experience. \nWhether you have read every page or are simply curious\, you are welcome here.
URL:https://wearethewheel.com/event/spiritual-book-club-2/2027-08-22/
CATEGORIES:Spiritual Book Club
ATTACH;FMTTYPE=image/png:https://wearethewheel.com/wp-content/uploads/2026/03/spiritual-book-club.png
ORGANIZER;CN="The Wheel":MAILTO:hello@wearethewheel.com
LOCATION:
END:VEVENT
BEGIN:VEVENT
DTSTART;TZID=America/New_York:20270829T190000
DTEND;TZID=America/New_York:20270829T201500
DTSTAMP:20260420T002748
CREATED:20260413T184627Z
LAST-MODIFIED:20260413T184629Z
UID:10001678-1819566000-1819570500@wearethewheel.com
SUMMARY:Spiritual Book Club
DESCRIPTION:A weekly gathering for thoughtful readers and soulful conversation. \nEach Sunday\, we come together to explore a selected spiritual text and reflect on how its wisdom applies to real life. This is not a lecture. It is a shared space for insight\, honest questions\, and lived experience. \nWhether you have read every page or are simply curious\, you are welcome here.
URL:https://wearethewheel.com/event/spiritual-book-club-2/2027-08-29/
CATEGORIES:Spiritual Book Club
ATTACH;FMTTYPE=image/png:https://wearethewheel.com/wp-content/uploads/2026/03/spiritual-book-club.png
ORGANIZER;CN="The Wheel":MAILTO:hello@wearethewheel.com
LOCATION:
END:VEVENT
BEGIN:VEVENT
DTSTART;TZID=America/New_York:20270905T190000
DTEND;TZID=America/New_York:20270905T201500
DTSTAMP:20260420T002748
CREATED:20260413T184627Z
LAST-MODIFIED:20260413T184629Z
UID:10001679-1820170800-1820175300@wearethewheel.com
SUMMARY:Spiritual Book Club
DESCRIPTION:A weekly gathering for thoughtful readers and soulful conversation. \nEach Sunday\, we come together to explore a selected spiritual text and reflect on how its wisdom applies to real life. This is not a lecture. It is a shared space for insight\, honest questions\, and lived experience. \nWhether you have read every page or are simply curious\, you are welcome here.
URL:https://wearethewheel.com/event/spiritual-book-club-2/2027-09-05/
CATEGORIES:Spiritual Book Club
ATTACH;FMTTYPE=image/png:https://wearethewheel.com/wp-content/uploads/2026/03/spiritual-book-club.png
ORGANIZER;CN="The Wheel":MAILTO:hello@wearethewheel.com
LOCATION:
END:VEVENT
BEGIN:VEVENT
DTSTART;TZID=America/New_York:20270912T190000
DTEND;TZID=America/New_York:20270912T201500
DTSTAMP:20260420T002748
CREATED:20260413T184627Z
LAST-MODIFIED:20260413T184629Z
UID:10001680-1820775600-1820780100@wearethewheel.com
SUMMARY:Spiritual Book Club
DESCRIPTION:A weekly gathering for thoughtful readers and soulful conversation. \nEach Sunday\, we come together to explore a selected spiritual text and reflect on how its wisdom applies to real life. This is not a lecture. It is a shared space for insight\, honest questions\, and lived experience. \nWhether you have read every page or are simply curious\, you are welcome here.
URL:https://wearethewheel.com/event/spiritual-book-club-2/2027-09-12/
CATEGORIES:Spiritual Book Club
ATTACH;FMTTYPE=image/png:https://wearethewheel.com/wp-content/uploads/2026/03/spiritual-book-club.png
ORGANIZER;CN="The Wheel":MAILTO:hello@wearethewheel.com
LOCATION:
END:VEVENT
BEGIN:VEVENT
DTSTART;TZID=America/New_York:20270919T190000
DTEND;TZID=America/New_York:20270919T201500
DTSTAMP:20260420T002748
CREATED:20260413T184627Z
LAST-MODIFIED:20260413T184629Z
UID:10001681-1821380400-1821384900@wearethewheel.com
SUMMARY:Spiritual Book Club
DESCRIPTION:A weekly gathering for thoughtful readers and soulful conversation. \nEach Sunday\, we come together to explore a selected spiritual text and reflect on how its wisdom applies to real life. This is not a lecture. It is a shared space for insight\, honest questions\, and lived experience. \nWhether you have read every page or are simply curious\, you are welcome here.
URL:https://wearethewheel.com/event/spiritual-book-club-2/2027-09-19/
CATEGORIES:Spiritual Book Club
ATTACH;FMTTYPE=image/png:https://wearethewheel.com/wp-content/uploads/2026/03/spiritual-book-club.png
ORGANIZER;CN="The Wheel":MAILTO:hello@wearethewheel.com
LOCATION:
END:VEVENT
BEGIN:VEVENT
DTSTART;TZID=America/New_York:20270926T190000
DTEND;TZID=America/New_York:20270926T201500
DTSTAMP:20260420T002748
CREATED:20260413T184627Z
LAST-MODIFIED:20260413T184629Z
UID:10001682-1821985200-1821989700@wearethewheel.com
SUMMARY:Spiritual Book Club
DESCRIPTION:A weekly gathering for thoughtful readers and soulful conversation. \nEach Sunday\, we come together to explore a selected spiritual text and reflect on how its wisdom applies to real life. This is not a lecture. It is a shared space for insight\, honest questions\, and lived experience. \nWhether you have read every page or are simply curious\, you are welcome here.
URL:https://wearethewheel.com/event/spiritual-book-club-2/2027-09-26/
CATEGORIES:Spiritual Book Club
ATTACH;FMTTYPE=image/png:https://wearethewheel.com/wp-content/uploads/2026/03/spiritual-book-club.png
ORGANIZER;CN="The Wheel":MAILTO:hello@wearethewheel.com
LOCATION:
END:VEVENT
BEGIN:VEVENT
DTSTART;TZID=America/New_York:20271003T190000
DTEND;TZID=America/New_York:20271003T201500
DTSTAMP:20260420T002748
CREATED:20260413T184627Z
LAST-MODIFIED:20260413T184629Z
UID:10001683-1822590000-1822594500@wearethewheel.com
SUMMARY:Spiritual Book Club
DESCRIPTION:A weekly gathering for thoughtful readers and soulful conversation. \nEach Sunday\, we come together to explore a selected spiritual text and reflect on how its wisdom applies to real life. This is not a lecture. It is a shared space for insight\, honest questions\, and lived experience. \nWhether you have read every page or are simply curious\, you are welcome here.
URL:https://wearethewheel.com/event/spiritual-book-club-2/2027-10-03/
CATEGORIES:Spiritual Book Club
ATTACH;FMTTYPE=image/png:https://wearethewheel.com/wp-content/uploads/2026/03/spiritual-book-club.png
ORGANIZER;CN="The Wheel":MAILTO:hello@wearethewheel.com
LOCATION:
END:VEVENT
BEGIN:VEVENT
DTSTART;TZID=America/New_York:20271010T190000
DTEND;TZID=America/New_York:20271010T201500
DTSTAMP:20260420T002748
CREATED:20260413T184627Z
LAST-MODIFIED:20260413T184629Z
UID:10001684-1823194800-1823199300@wearethewheel.com
SUMMARY:Spiritual Book Club
DESCRIPTION:A weekly gathering for thoughtful readers and soulful conversation. \nEach Sunday\, we come together to explore a selected spiritual text and reflect on how its wisdom applies to real life. This is not a lecture. It is a shared space for insight\, honest questions\, and lived experience. \nWhether you have read every page or are simply curious\, you are welcome here.
URL:https://wearethewheel.com/event/spiritual-book-club-2/2027-10-10/
CATEGORIES:Spiritual Book Club
ATTACH;FMTTYPE=image/png:https://wearethewheel.com/wp-content/uploads/2026/03/spiritual-book-club.png
ORGANIZER;CN="The Wheel":MAILTO:hello@wearethewheel.com
LOCATION:
END:VEVENT
BEGIN:VEVENT
DTSTART;TZID=America/New_York:20271017T190000
DTEND;TZID=America/New_York:20271017T201500
DTSTAMP:20260420T002748
CREATED:20260413T184627Z
LAST-MODIFIED:20260413T184629Z
UID:10001685-1823799600-1823804100@wearethewheel.com
SUMMARY:Spiritual Book Club
DESCRIPTION:A weekly gathering for thoughtful readers and soulful conversation. \nEach Sunday\, we come together to explore a selected spiritual text and reflect on how its wisdom applies to real life. This is not a lecture. It is a shared space for insight\, honest questions\, and lived experience. \nWhether you have read every page or are simply curious\, you are welcome here.
URL:https://wearethewheel.com/event/spiritual-book-club-2/2027-10-17/
CATEGORIES:Spiritual Book Club
ATTACH;FMTTYPE=image/png:https://wearethewheel.com/wp-content/uploads/2026/03/spiritual-book-club.png
ORGANIZER;CN="The Wheel":MAILTO:hello@wearethewheel.com
LOCATION:
END:VEVENT
BEGIN:VEVENT
DTSTART;TZID=America/New_York:20271024T190000
DTEND;TZID=America/New_York:20271024T201500
DTSTAMP:20260420T002748
CREATED:20260413T184627Z
LAST-MODIFIED:20260413T184629Z
UID:10001686-1824404400-1824408900@wearethewheel.com
SUMMARY:Spiritual Book Club
DESCRIPTION:A weekly gathering for thoughtful readers and soulful conversation. \nEach Sunday\, we come together to explore a selected spiritual text and reflect on how its wisdom applies to real life. This is not a lecture. It is a shared space for insight\, honest questions\, and lived experience. \nWhether you have read every page or are simply curious\, you are welcome here.
URL:https://wearethewheel.com/event/spiritual-book-club-2/2027-10-24/
CATEGORIES:Spiritual Book Club
ATTACH;FMTTYPE=image/png:https://wearethewheel.com/wp-content/uploads/2026/03/spiritual-book-club.png
ORGANIZER;CN="The Wheel":MAILTO:hello@wearethewheel.com
LOCATION:
END:VEVENT
END:VCALENDAR