BEGIN:VCALENDAR
VERSION:2.0
PRODID:-//The Wheel - ECPv6.15.20//NONSGML v1.0//EN
CALSCALE:GREGORIAN
METHOD:PUBLISH
X-WR-CALNAME:The Wheel
X-ORIGINAL-URL:https://wearethewheel.com
X-WR-CALDESC:Events for The Wheel
REFRESH-INTERVAL;VALUE=DURATION:PT1H
X-Robots-Tag:noindex
X-PUBLISHED-TTL:PT1H
BEGIN:VTIMEZONE
TZID:America/New_York
BEGIN:DAYLIGHT
TZOFFSETFROM:-0500
TZOFFSETTO:-0400
TZNAME:EDT
DTSTART:20290311T070000
END:DAYLIGHT
BEGIN:STANDARD
TZOFFSETFROM:-0400
TZOFFSETTO:-0500
TZNAME:EST
DTSTART:20291104T060000
END:STANDARD
BEGIN:DAYLIGHT
TZOFFSETFROM:-0500
TZOFFSETTO:-0400
TZNAME:EDT
DTSTART:20300310T070000
END:DAYLIGHT
BEGIN:STANDARD
TZOFFSETFROM:-0400
TZOFFSETTO:-0500
TZNAME:EST
DTSTART:20301103T060000
END:STANDARD
BEGIN:DAYLIGHT
TZOFFSETFROM:-0500
TZOFFSETTO:-0400
TZNAME:EDT
DTSTART:20310309T070000
END:DAYLIGHT
BEGIN:STANDARD
TZOFFSETFROM:-0400
TZOFFSETTO:-0500
TZNAME:EST
DTSTART:20311102T060000
END:STANDARD
BEGIN:DAYLIGHT
TZOFFSETFROM:-0500
TZOFFSETTO:-0400
TZNAME:EDT
DTSTART:20320314T070000
END:DAYLIGHT
BEGIN:STANDARD
TZOFFSETFROM:-0400
TZOFFSETTO:-0500
TZNAME:EST
DTSTART:20321107T060000
END:STANDARD
END:VTIMEZONE
BEGIN:VEVENT
DTSTART;TZID=America/New_York:20300908T190000
DTEND;TZID=America/New_York:20300908T201500
DTSTAMP:20260421T222314
CREATED:20260413T184627Z
LAST-MODIFIED:20260413T184629Z
UID:10001836-1915124400-1915128900@wearethewheel.com
SUMMARY:Spiritual Book Club
DESCRIPTION:A weekly gathering for thoughtful readers and soulful conversation. \nEach Sunday\, we come together to explore a selected spiritual text and reflect on how its wisdom applies to real life. This is not a lecture. It is a shared space for insight\, honest questions\, and lived experience. \nWhether you have read every page or are simply curious\, you are welcome here.
URL:https://wearethewheel.com/event/spiritual-book-club-2/2030-09-08/
CATEGORIES:Spiritual Book Club
ATTACH;FMTTYPE=image/png:https://wearethewheel.com/wp-content/uploads/2026/03/spiritual-book-club.png
ORGANIZER;CN="The Wheel":MAILTO:hello@wearethewheel.com
LOCATION:
END:VEVENT
BEGIN:VEVENT
DTSTART;TZID=America/New_York:20300915T190000
DTEND;TZID=America/New_York:20300915T201500
DTSTAMP:20260421T222314
CREATED:20260413T184627Z
LAST-MODIFIED:20260413T184629Z
UID:10001837-1915729200-1915733700@wearethewheel.com
SUMMARY:Spiritual Book Club
DESCRIPTION:A weekly gathering for thoughtful readers and soulful conversation. \nEach Sunday\, we come together to explore a selected spiritual text and reflect on how its wisdom applies to real life. This is not a lecture. It is a shared space for insight\, honest questions\, and lived experience. \nWhether you have read every page or are simply curious\, you are welcome here.
URL:https://wearethewheel.com/event/spiritual-book-club-2/2030-09-15/
CATEGORIES:Spiritual Book Club
ATTACH;FMTTYPE=image/png:https://wearethewheel.com/wp-content/uploads/2026/03/spiritual-book-club.png
ORGANIZER;CN="The Wheel":MAILTO:hello@wearethewheel.com
LOCATION:
END:VEVENT
BEGIN:VEVENT
DTSTART;TZID=America/New_York:20300922T190000
DTEND;TZID=America/New_York:20300922T201500
DTSTAMP:20260421T222314
CREATED:20260413T184627Z
LAST-MODIFIED:20260413T184629Z
UID:10001838-1916334000-1916338500@wearethewheel.com
SUMMARY:Spiritual Book Club
DESCRIPTION:A weekly gathering for thoughtful readers and soulful conversation. \nEach Sunday\, we come together to explore a selected spiritual text and reflect on how its wisdom applies to real life. This is not a lecture. It is a shared space for insight\, honest questions\, and lived experience. \nWhether you have read every page or are simply curious\, you are welcome here.
URL:https://wearethewheel.com/event/spiritual-book-club-2/2030-09-22/
CATEGORIES:Spiritual Book Club
ATTACH;FMTTYPE=image/png:https://wearethewheel.com/wp-content/uploads/2026/03/spiritual-book-club.png
ORGANIZER;CN="The Wheel":MAILTO:hello@wearethewheel.com
LOCATION:
END:VEVENT
BEGIN:VEVENT
DTSTART;TZID=America/New_York:20300929T190000
DTEND;TZID=America/New_York:20300929T201500
DTSTAMP:20260421T222314
CREATED:20260413T184627Z
LAST-MODIFIED:20260413T184629Z
UID:10001839-1916938800-1916943300@wearethewheel.com
SUMMARY:Spiritual Book Club
DESCRIPTION:A weekly gathering for thoughtful readers and soulful conversation. \nEach Sunday\, we come together to explore a selected spiritual text and reflect on how its wisdom applies to real life. This is not a lecture. It is a shared space for insight\, honest questions\, and lived experience. \nWhether you have read every page or are simply curious\, you are welcome here.
URL:https://wearethewheel.com/event/spiritual-book-club-2/2030-09-29/
CATEGORIES:Spiritual Book Club
ATTACH;FMTTYPE=image/png:https://wearethewheel.com/wp-content/uploads/2026/03/spiritual-book-club.png
ORGANIZER;CN="The Wheel":MAILTO:hello@wearethewheel.com
LOCATION:
END:VEVENT
BEGIN:VEVENT
DTSTART;TZID=America/New_York:20301006T190000
DTEND;TZID=America/New_York:20301006T201500
DTSTAMP:20260421T222314
CREATED:20260413T184627Z
LAST-MODIFIED:20260413T184629Z
UID:10001840-1917543600-1917548100@wearethewheel.com
SUMMARY:Spiritual Book Club
DESCRIPTION:A weekly gathering for thoughtful readers and soulful conversation. \nEach Sunday\, we come together to explore a selected spiritual text and reflect on how its wisdom applies to real life. This is not a lecture. It is a shared space for insight\, honest questions\, and lived experience. \nWhether you have read every page or are simply curious\, you are welcome here.
URL:https://wearethewheel.com/event/spiritual-book-club-2/2030-10-06/
CATEGORIES:Spiritual Book Club
ATTACH;FMTTYPE=image/png:https://wearethewheel.com/wp-content/uploads/2026/03/spiritual-book-club.png
ORGANIZER;CN="The Wheel":MAILTO:hello@wearethewheel.com
LOCATION:
END:VEVENT
BEGIN:VEVENT
DTSTART;TZID=America/New_York:20301013T190000
DTEND;TZID=America/New_York:20301013T201500
DTSTAMP:20260421T222314
CREATED:20260413T184627Z
LAST-MODIFIED:20260413T184629Z
UID:10001841-1918148400-1918152900@wearethewheel.com
SUMMARY:Spiritual Book Club
DESCRIPTION:A weekly gathering for thoughtful readers and soulful conversation. \nEach Sunday\, we come together to explore a selected spiritual text and reflect on how its wisdom applies to real life. This is not a lecture. It is a shared space for insight\, honest questions\, and lived experience. \nWhether you have read every page or are simply curious\, you are welcome here.
URL:https://wearethewheel.com/event/spiritual-book-club-2/2030-10-13/
CATEGORIES:Spiritual Book Club
ATTACH;FMTTYPE=image/png:https://wearethewheel.com/wp-content/uploads/2026/03/spiritual-book-club.png
ORGANIZER;CN="The Wheel":MAILTO:hello@wearethewheel.com
LOCATION:
END:VEVENT
BEGIN:VEVENT
DTSTART;TZID=America/New_York:20301020T190000
DTEND;TZID=America/New_York:20301020T201500
DTSTAMP:20260421T222314
CREATED:20260413T184627Z
LAST-MODIFIED:20260413T184629Z
UID:10001842-1918753200-1918757700@wearethewheel.com
SUMMARY:Spiritual Book Club
DESCRIPTION:A weekly gathering for thoughtful readers and soulful conversation. \nEach Sunday\, we come together to explore a selected spiritual text and reflect on how its wisdom applies to real life. This is not a lecture. It is a shared space for insight\, honest questions\, and lived experience. \nWhether you have read every page or are simply curious\, you are welcome here.
URL:https://wearethewheel.com/event/spiritual-book-club-2/2030-10-20/
CATEGORIES:Spiritual Book Club
ATTACH;FMTTYPE=image/png:https://wearethewheel.com/wp-content/uploads/2026/03/spiritual-book-club.png
ORGANIZER;CN="The Wheel":MAILTO:hello@wearethewheel.com
LOCATION:
END:VEVENT
BEGIN:VEVENT
DTSTART;TZID=America/New_York:20301027T190000
DTEND;TZID=America/New_York:20301027T201500
DTSTAMP:20260421T222314
CREATED:20260413T184627Z
LAST-MODIFIED:20260413T184629Z
UID:10001843-1919358000-1919362500@wearethewheel.com
SUMMARY:Spiritual Book Club
DESCRIPTION:A weekly gathering for thoughtful readers and soulful conversation. \nEach Sunday\, we come together to explore a selected spiritual text and reflect on how its wisdom applies to real life. This is not a lecture. It is a shared space for insight\, honest questions\, and lived experience. \nWhether you have read every page or are simply curious\, you are welcome here.
URL:https://wearethewheel.com/event/spiritual-book-club-2/2030-10-27/
CATEGORIES:Spiritual Book Club
ATTACH;FMTTYPE=image/png:https://wearethewheel.com/wp-content/uploads/2026/03/spiritual-book-club.png
ORGANIZER;CN="The Wheel":MAILTO:hello@wearethewheel.com
LOCATION:
END:VEVENT
BEGIN:VEVENT
DTSTART;TZID=America/New_York:20301103T190000
DTEND;TZID=America/New_York:20301103T201500
DTSTAMP:20260421T222314
CREATED:20260413T184627Z
LAST-MODIFIED:20260413T184629Z
UID:10001844-1919962800-1919967300@wearethewheel.com
SUMMARY:Spiritual Book Club
DESCRIPTION:A weekly gathering for thoughtful readers and soulful conversation. \nEach Sunday\, we come together to explore a selected spiritual text and reflect on how its wisdom applies to real life. This is not a lecture. It is a shared space for insight\, honest questions\, and lived experience. \nWhether you have read every page or are simply curious\, you are welcome here.
URL:https://wearethewheel.com/event/spiritual-book-club-2/2030-11-03/
CATEGORIES:Spiritual Book Club
ATTACH;FMTTYPE=image/png:https://wearethewheel.com/wp-content/uploads/2026/03/spiritual-book-club.png
ORGANIZER;CN="The Wheel":MAILTO:hello@wearethewheel.com
LOCATION:
END:VEVENT
BEGIN:VEVENT
DTSTART;TZID=America/New_York:20301110T190000
DTEND;TZID=America/New_York:20301110T201500
DTSTAMP:20260421T222314
CREATED:20260413T184627Z
LAST-MODIFIED:20260413T184629Z
UID:10001845-1920567600-1920572100@wearethewheel.com
SUMMARY:Spiritual Book Club
DESCRIPTION:A weekly gathering for thoughtful readers and soulful conversation. \nEach Sunday\, we come together to explore a selected spiritual text and reflect on how its wisdom applies to real life. This is not a lecture. It is a shared space for insight\, honest questions\, and lived experience. \nWhether you have read every page or are simply curious\, you are welcome here.
URL:https://wearethewheel.com/event/spiritual-book-club-2/2030-11-10/
CATEGORIES:Spiritual Book Club
ATTACH;FMTTYPE=image/png:https://wearethewheel.com/wp-content/uploads/2026/03/spiritual-book-club.png
ORGANIZER;CN="The Wheel":MAILTO:hello@wearethewheel.com
LOCATION:
END:VEVENT
BEGIN:VEVENT
DTSTART;TZID=America/New_York:20301117T190000
DTEND;TZID=America/New_York:20301117T201500
DTSTAMP:20260421T222314
CREATED:20260413T184627Z
LAST-MODIFIED:20260413T184629Z
UID:10001846-1921172400-1921176900@wearethewheel.com
SUMMARY:Spiritual Book Club
DESCRIPTION:A weekly gathering for thoughtful readers and soulful conversation. \nEach Sunday\, we come together to explore a selected spiritual text and reflect on how its wisdom applies to real life. This is not a lecture. It is a shared space for insight\, honest questions\, and lived experience. \nWhether you have read every page or are simply curious\, you are welcome here.
URL:https://wearethewheel.com/event/spiritual-book-club-2/2030-11-17/
CATEGORIES:Spiritual Book Club
ATTACH;FMTTYPE=image/png:https://wearethewheel.com/wp-content/uploads/2026/03/spiritual-book-club.png
ORGANIZER;CN="The Wheel":MAILTO:hello@wearethewheel.com
LOCATION:
END:VEVENT
BEGIN:VEVENT
DTSTART;TZID=America/New_York:20301124T190000
DTEND;TZID=America/New_York:20301124T201500
DTSTAMP:20260421T222314
CREATED:20260413T184627Z
LAST-MODIFIED:20260413T184629Z
UID:10001847-1921777200-1921781700@wearethewheel.com
SUMMARY:Spiritual Book Club
DESCRIPTION:A weekly gathering for thoughtful readers and soulful conversation. \nEach Sunday\, we come together to explore a selected spiritual text and reflect on how its wisdom applies to real life. This is not a lecture. It is a shared space for insight\, honest questions\, and lived experience. \nWhether you have read every page or are simply curious\, you are welcome here.
URL:https://wearethewheel.com/event/spiritual-book-club-2/2030-11-24/
CATEGORIES:Spiritual Book Club
ATTACH;FMTTYPE=image/png:https://wearethewheel.com/wp-content/uploads/2026/03/spiritual-book-club.png
ORGANIZER;CN="The Wheel":MAILTO:hello@wearethewheel.com
LOCATION:
END:VEVENT
BEGIN:VEVENT
DTSTART;TZID=America/New_York:20301201T190000
DTEND;TZID=America/New_York:20301201T201500
DTSTAMP:20260421T222314
CREATED:20260413T184627Z
LAST-MODIFIED:20260413T184629Z
UID:10001848-1922382000-1922386500@wearethewheel.com
SUMMARY:Spiritual Book Club
DESCRIPTION:A weekly gathering for thoughtful readers and soulful conversation. \nEach Sunday\, we come together to explore a selected spiritual text and reflect on how its wisdom applies to real life. This is not a lecture. It is a shared space for insight\, honest questions\, and lived experience. \nWhether you have read every page or are simply curious\, you are welcome here.
URL:https://wearethewheel.com/event/spiritual-book-club-2/2030-12-01/
CATEGORIES:Spiritual Book Club
ATTACH;FMTTYPE=image/png:https://wearethewheel.com/wp-content/uploads/2026/03/spiritual-book-club.png
ORGANIZER;CN="The Wheel":MAILTO:hello@wearethewheel.com
LOCATION:
END:VEVENT
BEGIN:VEVENT
DTSTART;TZID=America/New_York:20301208T190000
DTEND;TZID=America/New_York:20301208T201500
DTSTAMP:20260421T222314
CREATED:20260413T184627Z
LAST-MODIFIED:20260413T184629Z
UID:10001849-1922986800-1922991300@wearethewheel.com
SUMMARY:Spiritual Book Club
DESCRIPTION:A weekly gathering for thoughtful readers and soulful conversation. \nEach Sunday\, we come together to explore a selected spiritual text and reflect on how its wisdom applies to real life. This is not a lecture. It is a shared space for insight\, honest questions\, and lived experience. \nWhether you have read every page or are simply curious\, you are welcome here.
URL:https://wearethewheel.com/event/spiritual-book-club-2/2030-12-08/
CATEGORIES:Spiritual Book Club
ATTACH;FMTTYPE=image/png:https://wearethewheel.com/wp-content/uploads/2026/03/spiritual-book-club.png
ORGANIZER;CN="The Wheel":MAILTO:hello@wearethewheel.com
LOCATION:
END:VEVENT
BEGIN:VEVENT
DTSTART;TZID=America/New_York:20301215T190000
DTEND;TZID=America/New_York:20301215T201500
DTSTAMP:20260421T222314
CREATED:20260413T184627Z
LAST-MODIFIED:20260413T184629Z
UID:10001850-1923591600-1923596100@wearethewheel.com
SUMMARY:Spiritual Book Club
DESCRIPTION:A weekly gathering for thoughtful readers and soulful conversation. \nEach Sunday\, we come together to explore a selected spiritual text and reflect on how its wisdom applies to real life. This is not a lecture. It is a shared space for insight\, honest questions\, and lived experience. \nWhether you have read every page or are simply curious\, you are welcome here.
URL:https://wearethewheel.com/event/spiritual-book-club-2/2030-12-15/
CATEGORIES:Spiritual Book Club
ATTACH;FMTTYPE=image/png:https://wearethewheel.com/wp-content/uploads/2026/03/spiritual-book-club.png
ORGANIZER;CN="The Wheel":MAILTO:hello@wearethewheel.com
LOCATION:
END:VEVENT
BEGIN:VEVENT
DTSTART;TZID=America/New_York:20301222T190000
DTEND;TZID=America/New_York:20301222T201500
DTSTAMP:20260421T222314
CREATED:20260413T184627Z
LAST-MODIFIED:20260413T184629Z
UID:10001851-1924196400-1924200900@wearethewheel.com
SUMMARY:Spiritual Book Club
DESCRIPTION:A weekly gathering for thoughtful readers and soulful conversation. \nEach Sunday\, we come together to explore a selected spiritual text and reflect on how its wisdom applies to real life. This is not a lecture. It is a shared space for insight\, honest questions\, and lived experience. \nWhether you have read every page or are simply curious\, you are welcome here.
URL:https://wearethewheel.com/event/spiritual-book-club-2/2030-12-22/
CATEGORIES:Spiritual Book Club
ATTACH;FMTTYPE=image/png:https://wearethewheel.com/wp-content/uploads/2026/03/spiritual-book-club.png
ORGANIZER;CN="The Wheel":MAILTO:hello@wearethewheel.com
LOCATION:
END:VEVENT
BEGIN:VEVENT
DTSTART;TZID=America/New_York:20301229T190000
DTEND;TZID=America/New_York:20301229T201500
DTSTAMP:20260421T222314
CREATED:20260413T184627Z
LAST-MODIFIED:20260413T184629Z
UID:10001852-1924801200-1924805700@wearethewheel.com
SUMMARY:Spiritual Book Club
DESCRIPTION:A weekly gathering for thoughtful readers and soulful conversation. \nEach Sunday\, we come together to explore a selected spiritual text and reflect on how its wisdom applies to real life. This is not a lecture. It is a shared space for insight\, honest questions\, and lived experience. \nWhether you have read every page or are simply curious\, you are welcome here.
URL:https://wearethewheel.com/event/spiritual-book-club-2/2030-12-29/
CATEGORIES:Spiritual Book Club
ATTACH;FMTTYPE=image/png:https://wearethewheel.com/wp-content/uploads/2026/03/spiritual-book-club.png
ORGANIZER;CN="The Wheel":MAILTO:hello@wearethewheel.com
LOCATION:
END:VEVENT
BEGIN:VEVENT
DTSTART;TZID=America/New_York:20310105T190000
DTEND;TZID=America/New_York:20310105T201500
DTSTAMP:20260421T222314
CREATED:20260413T184627Z
LAST-MODIFIED:20260413T184629Z
UID:10001853-1925406000-1925410500@wearethewheel.com
SUMMARY:Spiritual Book Club
DESCRIPTION:A weekly gathering for thoughtful readers and soulful conversation. \nEach Sunday\, we come together to explore a selected spiritual text and reflect on how its wisdom applies to real life. This is not a lecture. It is a shared space for insight\, honest questions\, and lived experience. \nWhether you have read every page or are simply curious\, you are welcome here.
URL:https://wearethewheel.com/event/spiritual-book-club-2/2031-01-05/
CATEGORIES:Spiritual Book Club
ATTACH;FMTTYPE=image/png:https://wearethewheel.com/wp-content/uploads/2026/03/spiritual-book-club.png
ORGANIZER;CN="The Wheel":MAILTO:hello@wearethewheel.com
LOCATION:
END:VEVENT
BEGIN:VEVENT
DTSTART;TZID=America/New_York:20310112T190000
DTEND;TZID=America/New_York:20310112T201500
DTSTAMP:20260421T222314
CREATED:20260413T184627Z
LAST-MODIFIED:20260413T184629Z
UID:10001854-1926010800-1926015300@wearethewheel.com
SUMMARY:Spiritual Book Club
DESCRIPTION:A weekly gathering for thoughtful readers and soulful conversation. \nEach Sunday\, we come together to explore a selected spiritual text and reflect on how its wisdom applies to real life. This is not a lecture. It is a shared space for insight\, honest questions\, and lived experience. \nWhether you have read every page or are simply curious\, you are welcome here.
URL:https://wearethewheel.com/event/spiritual-book-club-2/2031-01-12/
CATEGORIES:Spiritual Book Club
ATTACH;FMTTYPE=image/png:https://wearethewheel.com/wp-content/uploads/2026/03/spiritual-book-club.png
ORGANIZER;CN="The Wheel":MAILTO:hello@wearethewheel.com
LOCATION:
END:VEVENT
BEGIN:VEVENT
DTSTART;TZID=America/New_York:20310119T190000
DTEND;TZID=America/New_York:20310119T201500
DTSTAMP:20260421T222314
CREATED:20260413T184627Z
LAST-MODIFIED:20260413T184629Z
UID:10001855-1926615600-1926620100@wearethewheel.com
SUMMARY:Spiritual Book Club
DESCRIPTION:A weekly gathering for thoughtful readers and soulful conversation. \nEach Sunday\, we come together to explore a selected spiritual text and reflect on how its wisdom applies to real life. This is not a lecture. It is a shared space for insight\, honest questions\, and lived experience. \nWhether you have read every page or are simply curious\, you are welcome here.
URL:https://wearethewheel.com/event/spiritual-book-club-2/2031-01-19/
CATEGORIES:Spiritual Book Club
ATTACH;FMTTYPE=image/png:https://wearethewheel.com/wp-content/uploads/2026/03/spiritual-book-club.png
ORGANIZER;CN="The Wheel":MAILTO:hello@wearethewheel.com
LOCATION:
END:VEVENT
BEGIN:VEVENT
DTSTART;TZID=America/New_York:20310126T190000
DTEND;TZID=America/New_York:20310126T201500
DTSTAMP:20260421T222314
CREATED:20260413T184627Z
LAST-MODIFIED:20260413T184629Z
UID:10001856-1927220400-1927224900@wearethewheel.com
SUMMARY:Spiritual Book Club
DESCRIPTION:A weekly gathering for thoughtful readers and soulful conversation. \nEach Sunday\, we come together to explore a selected spiritual text and reflect on how its wisdom applies to real life. This is not a lecture. It is a shared space for insight\, honest questions\, and lived experience. \nWhether you have read every page or are simply curious\, you are welcome here.
URL:https://wearethewheel.com/event/spiritual-book-club-2/2031-01-26/
CATEGORIES:Spiritual Book Club
ATTACH;FMTTYPE=image/png:https://wearethewheel.com/wp-content/uploads/2026/03/spiritual-book-club.png
ORGANIZER;CN="The Wheel":MAILTO:hello@wearethewheel.com
LOCATION:
END:VEVENT
BEGIN:VEVENT
DTSTART;TZID=America/New_York:20310202T190000
DTEND;TZID=America/New_York:20310202T201500
DTSTAMP:20260421T222314
CREATED:20260413T184627Z
LAST-MODIFIED:20260413T184629Z
UID:10001857-1927825200-1927829700@wearethewheel.com
SUMMARY:Spiritual Book Club
DESCRIPTION:A weekly gathering for thoughtful readers and soulful conversation. \nEach Sunday\, we come together to explore a selected spiritual text and reflect on how its wisdom applies to real life. This is not a lecture. It is a shared space for insight\, honest questions\, and lived experience. \nWhether you have read every page or are simply curious\, you are welcome here.
URL:https://wearethewheel.com/event/spiritual-book-club-2/2031-02-02/
CATEGORIES:Spiritual Book Club
ATTACH;FMTTYPE=image/png:https://wearethewheel.com/wp-content/uploads/2026/03/spiritual-book-club.png
ORGANIZER;CN="The Wheel":MAILTO:hello@wearethewheel.com
LOCATION:
END:VEVENT
BEGIN:VEVENT
DTSTART;TZID=America/New_York:20310209T190000
DTEND;TZID=America/New_York:20310209T201500
DTSTAMP:20260421T222314
CREATED:20260413T184627Z
LAST-MODIFIED:20260413T184629Z
UID:10001858-1928430000-1928434500@wearethewheel.com
SUMMARY:Spiritual Book Club
DESCRIPTION:A weekly gathering for thoughtful readers and soulful conversation. \nEach Sunday\, we come together to explore a selected spiritual text and reflect on how its wisdom applies to real life. This is not a lecture. It is a shared space for insight\, honest questions\, and lived experience. \nWhether you have read every page or are simply curious\, you are welcome here.
URL:https://wearethewheel.com/event/spiritual-book-club-2/2031-02-09/
CATEGORIES:Spiritual Book Club
ATTACH;FMTTYPE=image/png:https://wearethewheel.com/wp-content/uploads/2026/03/spiritual-book-club.png
ORGANIZER;CN="The Wheel":MAILTO:hello@wearethewheel.com
LOCATION:
END:VEVENT
BEGIN:VEVENT
DTSTART;TZID=America/New_York:20310216T190000
DTEND;TZID=America/New_York:20310216T201500
DTSTAMP:20260421T222314
CREATED:20260413T184627Z
LAST-MODIFIED:20260413T184629Z
UID:10001859-1929034800-1929039300@wearethewheel.com
SUMMARY:Spiritual Book Club
DESCRIPTION:A weekly gathering for thoughtful readers and soulful conversation. \nEach Sunday\, we come together to explore a selected spiritual text and reflect on how its wisdom applies to real life. This is not a lecture. It is a shared space for insight\, honest questions\, and lived experience. \nWhether you have read every page or are simply curious\, you are welcome here.
URL:https://wearethewheel.com/event/spiritual-book-club-2/2031-02-16/
CATEGORIES:Spiritual Book Club
ATTACH;FMTTYPE=image/png:https://wearethewheel.com/wp-content/uploads/2026/03/spiritual-book-club.png
ORGANIZER;CN="The Wheel":MAILTO:hello@wearethewheel.com
LOCATION:
END:VEVENT
BEGIN:VEVENT
DTSTART;TZID=America/New_York:20310223T190000
DTEND;TZID=America/New_York:20310223T201500
DTSTAMP:20260421T222314
CREATED:20260413T184627Z
LAST-MODIFIED:20260413T184629Z
UID:10001860-1929639600-1929644100@wearethewheel.com
SUMMARY:Spiritual Book Club
DESCRIPTION:A weekly gathering for thoughtful readers and soulful conversation. \nEach Sunday\, we come together to explore a selected spiritual text and reflect on how its wisdom applies to real life. This is not a lecture. It is a shared space for insight\, honest questions\, and lived experience. \nWhether you have read every page or are simply curious\, you are welcome here.
URL:https://wearethewheel.com/event/spiritual-book-club-2/2031-02-23/
CATEGORIES:Spiritual Book Club
ATTACH;FMTTYPE=image/png:https://wearethewheel.com/wp-content/uploads/2026/03/spiritual-book-club.png
ORGANIZER;CN="The Wheel":MAILTO:hello@wearethewheel.com
LOCATION:
END:VEVENT
BEGIN:VEVENT
DTSTART;TZID=America/New_York:20310302T190000
DTEND;TZID=America/New_York:20310302T201500
DTSTAMP:20260421T222314
CREATED:20260413T184627Z
LAST-MODIFIED:20260413T184629Z
UID:10001861-1930244400-1930248900@wearethewheel.com
SUMMARY:Spiritual Book Club
DESCRIPTION:A weekly gathering for thoughtful readers and soulful conversation. \nEach Sunday\, we come together to explore a selected spiritual text and reflect on how its wisdom applies to real life. This is not a lecture. It is a shared space for insight\, honest questions\, and lived experience. \nWhether you have read every page or are simply curious\, you are welcome here.
URL:https://wearethewheel.com/event/spiritual-book-club-2/2031-03-02/
CATEGORIES:Spiritual Book Club
ATTACH;FMTTYPE=image/png:https://wearethewheel.com/wp-content/uploads/2026/03/spiritual-book-club.png
ORGANIZER;CN="The Wheel":MAILTO:hello@wearethewheel.com
LOCATION:
END:VEVENT
BEGIN:VEVENT
DTSTART;TZID=America/New_York:20310309T190000
DTEND;TZID=America/New_York:20310309T201500
DTSTAMP:20260421T222314
CREATED:20260413T184627Z
LAST-MODIFIED:20260413T184629Z
UID:10001862-1930849200-1930853700@wearethewheel.com
SUMMARY:Spiritual Book Club
DESCRIPTION:A weekly gathering for thoughtful readers and soulful conversation. \nEach Sunday\, we come together to explore a selected spiritual text and reflect on how its wisdom applies to real life. This is not a lecture. It is a shared space for insight\, honest questions\, and lived experience. \nWhether you have read every page or are simply curious\, you are welcome here.
URL:https://wearethewheel.com/event/spiritual-book-club-2/2031-03-09/
CATEGORIES:Spiritual Book Club
ATTACH;FMTTYPE=image/png:https://wearethewheel.com/wp-content/uploads/2026/03/spiritual-book-club.png
ORGANIZER;CN="The Wheel":MAILTO:hello@wearethewheel.com
LOCATION:
END:VEVENT
BEGIN:VEVENT
DTSTART;TZID=America/New_York:20310316T190000
DTEND;TZID=America/New_York:20310316T201500
DTSTAMP:20260421T222314
CREATED:20260413T184627Z
LAST-MODIFIED:20260413T184629Z
UID:10001863-1931454000-1931458500@wearethewheel.com
SUMMARY:Spiritual Book Club
DESCRIPTION:A weekly gathering for thoughtful readers and soulful conversation. \nEach Sunday\, we come together to explore a selected spiritual text and reflect on how its wisdom applies to real life. This is not a lecture. It is a shared space for insight\, honest questions\, and lived experience. \nWhether you have read every page or are simply curious\, you are welcome here.
URL:https://wearethewheel.com/event/spiritual-book-club-2/2031-03-16/
CATEGORIES:Spiritual Book Club
ATTACH;FMTTYPE=image/png:https://wearethewheel.com/wp-content/uploads/2026/03/spiritual-book-club.png
ORGANIZER;CN="The Wheel":MAILTO:hello@wearethewheel.com
LOCATION:
END:VEVENT
BEGIN:VEVENT
DTSTART;TZID=America/New_York:20310323T190000
DTEND;TZID=America/New_York:20310323T201500
DTSTAMP:20260421T222314
CREATED:20260413T184627Z
LAST-MODIFIED:20260413T184629Z
UID:10001864-1932058800-1932063300@wearethewheel.com
SUMMARY:Spiritual Book Club
DESCRIPTION:A weekly gathering for thoughtful readers and soulful conversation. \nEach Sunday\, we come together to explore a selected spiritual text and reflect on how its wisdom applies to real life. This is not a lecture. It is a shared space for insight\, honest questions\, and lived experience. \nWhether you have read every page or are simply curious\, you are welcome here.
URL:https://wearethewheel.com/event/spiritual-book-club-2/2031-03-23/
CATEGORIES:Spiritual Book Club
ATTACH;FMTTYPE=image/png:https://wearethewheel.com/wp-content/uploads/2026/03/spiritual-book-club.png
ORGANIZER;CN="The Wheel":MAILTO:hello@wearethewheel.com
LOCATION:
END:VEVENT
BEGIN:VEVENT
DTSTART;TZID=America/New_York:20310330T190000
DTEND;TZID=America/New_York:20310330T201500
DTSTAMP:20260421T222314
CREATED:20260413T184627Z
LAST-MODIFIED:20260413T184629Z
UID:10001865-1932663600-1932668100@wearethewheel.com
SUMMARY:Spiritual Book Club
DESCRIPTION:A weekly gathering for thoughtful readers and soulful conversation. \nEach Sunday\, we come together to explore a selected spiritual text and reflect on how its wisdom applies to real life. This is not a lecture. It is a shared space for insight\, honest questions\, and lived experience. \nWhether you have read every page or are simply curious\, you are welcome here.
URL:https://wearethewheel.com/event/spiritual-book-club-2/2031-03-30/
CATEGORIES:Spiritual Book Club
ATTACH;FMTTYPE=image/png:https://wearethewheel.com/wp-content/uploads/2026/03/spiritual-book-club.png
ORGANIZER;CN="The Wheel":MAILTO:hello@wearethewheel.com
LOCATION:
END:VEVENT
END:VCALENDAR