BEGIN:VCALENDAR
VERSION:2.0
PRODID:-//The Wheel - ECPv6.15.20//NONSGML v1.0//EN
CALSCALE:GREGORIAN
METHOD:PUBLISH
X-WR-CALNAME:The Wheel
X-ORIGINAL-URL:https://wearethewheel.com
X-WR-CALDESC:Events for The Wheel
REFRESH-INTERVAL;VALUE=DURATION:PT1H
X-Robots-Tag:noindex
X-PUBLISHED-TTL:PT1H
BEGIN:VTIMEZONE
TZID:America/New_York
BEGIN:DAYLIGHT
TZOFFSETFROM:-0500
TZOFFSETTO:-0400
TZNAME:EDT
DTSTART:20250309T070000
END:DAYLIGHT
BEGIN:STANDARD
TZOFFSETFROM:-0400
TZOFFSETTO:-0500
TZNAME:EST
DTSTART:20251102T060000
END:STANDARD
BEGIN:DAYLIGHT
TZOFFSETFROM:-0500
TZOFFSETTO:-0400
TZNAME:EDT
DTSTART:20260308T070000
END:DAYLIGHT
BEGIN:STANDARD
TZOFFSETFROM:-0400
TZOFFSETTO:-0500
TZNAME:EST
DTSTART:20261101T060000
END:STANDARD
BEGIN:DAYLIGHT
TZOFFSETFROM:-0500
TZOFFSETTO:-0400
TZNAME:EDT
DTSTART:20270314T070000
END:DAYLIGHT
BEGIN:STANDARD
TZOFFSETFROM:-0400
TZOFFSETTO:-0500
TZNAME:EST
DTSTART:20271107T060000
END:STANDARD
END:VTIMEZONE
BEGIN:VEVENT
DTSTART;TZID=America/New_York:20261206T190000
DTEND;TZID=America/New_York:20261206T201500
DTSTAMP:20260421T103213
CREATED:20260413T184627Z
LAST-MODIFIED:20260413T184629Z
UID:10001640-1796583600-1796588100@wearethewheel.com
SUMMARY:Spiritual Book Club
DESCRIPTION:A weekly gathering for thoughtful readers and soulful conversation. \nEach Sunday\, we come together to explore a selected spiritual text and reflect on how its wisdom applies to real life. This is not a lecture. It is a shared space for insight\, honest questions\, and lived experience. \nWhether you have read every page or are simply curious\, you are welcome here.
URL:https://wearethewheel.com/event/spiritual-book-club-2/2026-12-06/
CATEGORIES:Spiritual Book Club
ATTACH;FMTTYPE=image/png:https://wearethewheel.com/wp-content/uploads/2026/03/spiritual-book-club.png
ORGANIZER;CN="The Wheel":MAILTO:hello@wearethewheel.com
LOCATION:
END:VEVENT
BEGIN:VEVENT
DTSTART;TZID=America/New_York:20261213T190000
DTEND;TZID=America/New_York:20261213T201500
DTSTAMP:20260421T103213
CREATED:20260413T184627Z
LAST-MODIFIED:20260413T184629Z
UID:10001641-1797188400-1797192900@wearethewheel.com
SUMMARY:Spiritual Book Club
DESCRIPTION:A weekly gathering for thoughtful readers and soulful conversation. \nEach Sunday\, we come together to explore a selected spiritual text and reflect on how its wisdom applies to real life. This is not a lecture. It is a shared space for insight\, honest questions\, and lived experience. \nWhether you have read every page or are simply curious\, you are welcome here.
URL:https://wearethewheel.com/event/spiritual-book-club-2/2026-12-13/
CATEGORIES:Spiritual Book Club
ATTACH;FMTTYPE=image/png:https://wearethewheel.com/wp-content/uploads/2026/03/spiritual-book-club.png
ORGANIZER;CN="The Wheel":MAILTO:hello@wearethewheel.com
LOCATION:
END:VEVENT
BEGIN:VEVENT
DTSTART;TZID=America/New_York:20261220T190000
DTEND;TZID=America/New_York:20261220T201500
DTSTAMP:20260421T103213
CREATED:20260413T184627Z
LAST-MODIFIED:20260413T184629Z
UID:10001642-1797793200-1797797700@wearethewheel.com
SUMMARY:Spiritual Book Club
DESCRIPTION:A weekly gathering for thoughtful readers and soulful conversation. \nEach Sunday\, we come together to explore a selected spiritual text and reflect on how its wisdom applies to real life. This is not a lecture. It is a shared space for insight\, honest questions\, and lived experience. \nWhether you have read every page or are simply curious\, you are welcome here.
URL:https://wearethewheel.com/event/spiritual-book-club-2/2026-12-20/
CATEGORIES:Spiritual Book Club
ATTACH;FMTTYPE=image/png:https://wearethewheel.com/wp-content/uploads/2026/03/spiritual-book-club.png
ORGANIZER;CN="The Wheel":MAILTO:hello@wearethewheel.com
LOCATION:
END:VEVENT
BEGIN:VEVENT
DTSTART;TZID=America/New_York:20261227T190000
DTEND;TZID=America/New_York:20261227T201500
DTSTAMP:20260421T103213
CREATED:20260413T184627Z
LAST-MODIFIED:20260413T184629Z
UID:10001643-1798398000-1798402500@wearethewheel.com
SUMMARY:Spiritual Book Club
DESCRIPTION:A weekly gathering for thoughtful readers and soulful conversation. \nEach Sunday\, we come together to explore a selected spiritual text and reflect on how its wisdom applies to real life. This is not a lecture. It is a shared space for insight\, honest questions\, and lived experience. \nWhether you have read every page or are simply curious\, you are welcome here.
URL:https://wearethewheel.com/event/spiritual-book-club-2/2026-12-27/
CATEGORIES:Spiritual Book Club
ATTACH;FMTTYPE=image/png:https://wearethewheel.com/wp-content/uploads/2026/03/spiritual-book-club.png
ORGANIZER;CN="The Wheel":MAILTO:hello@wearethewheel.com
LOCATION:
END:VEVENT
END:VCALENDAR